Workbook

Sheet LETTER
B1: प्रति,
B2: अधीक्षक अभियंता
B3: दक्षता व गुण नियंत्रण मंडळ,
B4: अमरावती
B6: विषय :- मत्ता व दायित्वे यांचे विवरण पत्र सादर करणेबाबत. दिनांक 31/03/2025
B7: प्रमोद महादेव पुरी , वरिष्ठ लिपीक
B8: संदर्भ:- 1) शासन सा.बां.विभाग मंत्रालय मुंबई परिपत्रक क्र संकिर्ण 1411/प्रक्र154//सेवा-6(क)/ . दिनांक 13.12.2011
B9: 2) शासन निर्णय क्र. वारीअ-1214/प्रक्र26/11/दि.2 जून 2014
B11: महोदया,
B12: सेवेशी विनंती की. महाराष्ट्र नागरी सेवा (वर्तणूक) नियम, 1979 च्या नियम 19 च्या पोट-नियम (1) अनुसार माझी मत्ता व दायित्वे याचे विवरण पत्र दिनांक 31/03/2025 पर्यंतचे तयार करुन महाराष्ट्र नागरी सेवा (वर्तणूक) नियम, 1979 च्या नियम 8 च्या तरतुदी नुसार मोहर बंद पाकीटात विहीत प्रपत्र सादर करण्यात येत आहे.
B15: स्थळ :- अमरावती. | C15: प्रमोद महादेव पुरी
B16: दिनांक 26/05/2025 | C16: वरिष्ठ लिपीक
C17: दक्षता व गुण‍ नियंत्रक मंडळ,
B18: सहपत्र:- 1 मोहरबंद लिफाफा | C18: अमरावती

Sheet Praptra -1
A1: मत्ता व दायित्वे विवरणपत्र
A2: प्रपत्र-1
A3: अचल मालमत्तेचे विवरण दिनांक 31 मार्च 2025 च्या स्थितीस अनुसरुन
A4: अधिकारी/कर्मचारी यांचे नांव:- प्रमोद महादेव पुरी | E4: पदनाम:- वरिष्ठ लिपीक
A5: संवर्ग:- गट क | E5: सध्याचे मूळ वेतन:- रु.50400/-
A6: अक्र. | B6: अशी मालमत्ता जेथे असेल त्या ठिकाणाचा पोस्टाचा संपूर्ण पत्ता ( जिल्हा/तालुका/शहर/गांव) | C6: अशा मालमत्तेचे नांव व संपूर्ण तपशिल (घर/बंगला/ सदनिका,जमिन याबाबतचा संपूर्ण तपशिल व क्षेत्रफळ ) | D6: अशा मालमत्तेच्या बांधकामाची /खरेदीची/ जमिन असल्यास तिच्या खरेदीची किंमत (संपादीत केल्याचे वर्ष नमूद करावे) | E6: मालमत्तेची सध्याची किंमत रु. लक्ष | F6: सदर मालमत्ता कोणाच्या नांवे आहे? स्वत:च्या नांवे नसेल तर ज्याच्या/जिच्या नांवे आहे त्या व्यक्तीशी शासकिय अधिकारी /कर्मचारी यांचे नाते | G6: सदर मालमत्ता कशीव कोणाकडून संपादित केली त्याचा तपशिल (खरेदी केली, भाडेपट्टयाने घेतली, गहाणखत करुन घेतली, वारसहक्काने /भेट किंवा अन्य मार्गाने मिळाली.) | H6: मालमत्तेपासून मिळणारे एकूण वार्षिक उत्पन्न रुपये (वर्ष 2013-14) | I6: शेरा
A7: 1 | B7: 2 | C7: 3 | D7: 4 | E7: 5 | F7: 6 | G7: 7 | H7: 8 | I7: 9
A8: 1 | H8: निरंक
A9: 2 | H9: निरंक
A10: 3 | H10: निरंक
A11: 4 | H11: निरंक
C12: एकुण | F12: प्रमोद महादेव पुरी (स्वत:च्या)
B14: =+LETTER!B16 -> दिनांक 26/05/2025 | G14: प्रमोद महादेव पुरी
B15: वर नमुद केलेली माहिती माझ्या संपूर्ण माहितीप्रमाणे व विश्वासाप्रमाणे संपूर्ण सत्य व बिनचुक आहे. | G15: वरिष्ठ लिपीक
G16: सार्वजनिक बांधकाम प्रादेशिक विभाग, अमरावती

Sheet Praptra -2
A1: =+'Praptra -1'!A1:I1 -> मत्ता व दायित्वे विवरणपत्र
A2: प्रपत्र-2
A3: =+'Praptra -1'!A3:I3 -> अचल मालमत्तेचे विवरण दिनांक 31 मार्च 2025 च्या स्थितीस अनुसरुन
A4: =+'Praptra -1'!A4 -> अधिकारी/कर्मचारी यांचे नांव:- प्रमोद महादेव पुरी | E4: =+'Praptra -1'!E4 -> पदनाम:- वरिष्ठ लिपीक
A5: =+'Praptra -1'!A5 -> संवर्ग:- गट क | E5: =+'Praptra -1'!E5 -> सध्याचे मूळ वेतन:- रु.50400/-
A6: अक्र | B6: चल मालमत्तेचे वर्णन | C6: चल मालमत्तेचा संपूर्ण तपशिल (बँक,पोस्ट ऑफीस, युटीआय शाखा,कंपनी फर्म, विमा कंपनी ऋणको ई.चे पत्ते ) | D6: खात्यावर असलेली रक्कम /रोकड सुलभ मत्तेचे दर्शनी मुल्य/विमा पॉलीसीद्वारे आश्वासीत रक्कम /जड जवाहर,चांदी किंवा अन्य मौल्यवान धातु,रत्ने व इतर जंगम मालमत्ता संपादन केली त्यावेळची किंमत किंवा मुल्य | E6: स्वत:च्या नावावर नसेल तर ज्या व्यक्तीच्या नावावर' आहे त्या व्यक्तीचे नांव व त्याचे/तिचे शासकीय कर्मचा-यांशी असलेले नाते.
A7: 1 | B7: 2 | C7: 3 | D7: 4 | E7: 5
A8: 1 | B8: सोने
A9: 2 | B9: दुरदर्शन संच
A10: 3 | B10: संगणक, प्रिन्टर
A11: 4 | B11: मोटर सायकल
A12: 5 | B12: सिंन्थेसायझर
A13: 6 | B13: हूंडाई आय 10 कार
A14: 7 | B14: भविष्य निवार्ह निधी
A15: 8 | B15: वाटर प्युरीफायर
A16: 9 | B16: वाशिंग मशीन
A17: 10 | B17: सोने
A18: 11 | B18: सोने
A19: 12 | B19: फ्रिझ
... A31: 24 | B31: शैक्षणिक खर्च
C32: एकुण रु | D32: =SUM(D8:D31) -> 0
A34: =+'Praptra -1'!B14 -> दिनांक 26/05/2025 | E34: प्रमोद महादेव पुरी
A35: वर नमुद केलेली माहिती माझ्या संपूर्ण माहितीप्रमाणे व विश्वासाप्रमाणे संपूर्ण सत्य व बिनचुक आहे. | E35: वरिष्ठ लिपीक

Sheet praptra-3
A1: मत्ता व दायित्वे विवरण पत्र
A2: प्रपत्र क्रमांक 3
A3: चल मालमत्तेचे विवरण
A4: =+'Praptra -2'!A3:E3 -> अचल मालमत्तेचे विवरण दिनांक 31 मार्च 2025 च्या स्थितीस अनुसरुन
A5: =+'Praptra -2'!A4 -> अधिकारी/कर्मचारी यांचे नांव:- प्रमोद महादेव पुरी | E5: =+'Praptra -2'!E4 -> पदनाम:- वरिष्ठ लिपीक
A6: =+'Praptra -2'!A5 -> संवर्ग:- गट क | E6: =+'Praptra -2'!E5 -> सध्याचे मूळ वेतन:- रु.50400/-
A7: अक्र | B7: रक्कम | C7: धनकोचे नांव पत्ता | D7: दायित्वे पत्करण्याचा दिनांक | E7: व्यवहाराचा तपशिल | F7: शेरा
A8: 1 | B8: 2 | C8: 3 | D8: 4 | E8: 5 | F8: 6
A10: NIL
C11: Total
A12: वर नमुद केलेली माहिती माझ्या संपूर्ण माहितीप्रमाणे व विश्वासाप्रमाणे संपूर्ण सत्य व बिनचुक आहे.
B15: =+'Praptra -1'!B14 -> दिनांक 26/05/2025 | E15: प्रमोद महादेव पुरी
E16: वरिष्ठ लिपीक

Sheet Praptra -4
A1: प्रपत्र क्रमांक-चार
A2: श्री प्रमोद महादेव पुरी वरिष्ठ लिपीक ह्याने 31 मार्च, 2025 रोजी स्वत:च्या नांवे किंवा आपल्या कुटुंबाच्या सदस्यांच्या नावे रक्कम कशा प्राप्त झाले या बाबतचे विवरण
A3: अ.क्र. | B3: रक्कम | C3: रक्कम कोणाकडुन प्राप्त झाली | D3: रक्कम स्विकारण्याचा दिनांक | E3: व्यवहाराचा तपशिल | F3: शेरा
A4: 1 | B4: 2 | C4: 3 | D4: 4 | E4: 5 | F4: 6
B5: Amount / Gift Recived from
B6: Pramod Mahadeo Puri
A7: 1 | F7: Gift
A8: 2
A9: 3
A10: 4
A11: 5
A12: 6
A13: 7
A14: 8
A15: 9
A16: 10
A17: 11
A18: 12
B19: =SUM(B7:B18) -> 0 | C19: Total
B20: Pramod Mahadeo Puri (HUF)
A21: 1
A22: 2
A23: 3
A24: 4
A25: 5
B26: =SUM(B21:B25) -> 0 | C26: Total
B27: Sau. Rekha Pramod Puri
A28: 1
A29: 2 | F29: Gift
A30: 3
A31: 4
A32: 5
A33: 6
A34: 7
A35: 8
A36: 9 | F36: Gift
A37: 10 | F37: Gift
B38: =SUM(B28:B37) -> 0
B39: =+B38+B26+B19 -> 0 | D39: 900000
A40: - | C40: सन 1989 ते 2025 पर्यत झालेला खर्च जो अन्नधान्य तसेचे ईतर अत्यावश्यक बाबींबर झालेला खर्च
...
