Workbook

Sheet Input Data
A1: Information for Online Pension case
A2: Sr.No | B2: Perticular | C2: Details | D2: Sr.No | E2: Perticular | F2: Details
A3: 1 | B3: Name (In English) | C3: Pramod Mahadeo Puri | D3: 2 | E3: Name (In Marathi) | F3: श्री. प्रमोद महादेव पुरी,
A4: 3 | B4: Designation | C4: Senior Clerk | D4: 3 | E4: पदनाम | F4: वरिष्ठ लिपीक,
A5: 4 | B5: Sevaarth ID | C5: PWFPMPM7103 | D5: 5 | E5: नमुना भरून देण्याची तारीख | F5: 19-09-2024
A6: 6 | B6: Date Of Joining | C6: 34744 | D6: 7 | E6: Date Of Birth | F6: 25939
A7: 8 | B7: Date Of Retirement | C7: =EOMONTH(F6-1,12*58) -> 47149 | D7: 9 | E7: G.P.F. No. | F7: BR/BN-46715 | I7: Retirement | J7: =TEXT(C7, "dd-mm-yyyy") -> 31-01-2029
A8: 10 | B8: Last Pay | C8: 46200 | D8: 11 | E8: Hight | F8: 5 Feet 8 Inches
A9: 12 | B9: Personal Identification mark | C9: Mole on left cheek | D9: 13 | E9: Email ID | F9: puriak@gmail.com
A10: 14 | B10: Gender | C10: Male | D10: 15 | E10: Adhaar No | F10: 1122 3344 5555
A11: 16 | B11: Mobile No. | C11: 9890866999 | D11: 17 | E11: Landline No with std | F11: 7212990190
A12: 18 | B12: PAN.No | C12: AIBPAA1513C
A13: Residence Address
A14: 1 | B14: Building No. | C14: जयश्री अपार्टमेन्ट, | D14: 2 | E14: Locality | F14: सौरभ कॉलनी,
A15: 3 | B15: Town/City | C15: वि.म.वि.रोड, | D15: 4 | E15: District | F15: अमरावती.
A16: 5 | B16: State | C16: महाराष्ट्र | D16: 6 | E16: Pin Code | F16: 444604
A17: Pension Joint Account / singal Details
A18: 1 | B18: Bank Name | C18: State Bank Of India | D18: 2 | E18: Branch Name | F18: Camp Branch
A19: 3 | B19: IFSC Code | C19: SBIN0003866 | D19: 4 | E19: Bank Address | F19: Camp Amravati
A20: 5 | B20: Account No. | C20: 11111111111

Sheet Office N. Pension
A1: कार्यालयीन टिपणी
A2: दिनांक :- | B2: =TODAY() -> 45644
A3: विषय:- सेवानिवृत्ती प्रकरण महालेखाकार नागपुर यांना सादर करणे बाबतचा प्रस्ताव
B4: =+'Input Data'!F3&'Input Data'!F4 -> श्री. प्रमोद महादेव पुरी, वरिष्ठ लिपीक,
B5: महोदय,
A6: =+'Office N.GPF'!A6 -> श्री. प्रमोद महादेव पुरी, वरिष्ठ लिपीक, हे न‍ियत वयोमानानुसार दिनांक 31-01-2029 (म.नं) शासकीय सेवेतून सेवानिवृत्त होत आहेत.
A7: =+B4&"यांच्या सेवानिवृत्ती प्रकरणाचा तपशील खालील प्रमाणे आहे." -> श्री. प्रमोद महादेव पुरी, वरिष्ठ लिपीक, यांच्या सेवानिवृत्ती प्रकरणाचा तपशील खालील प्रमाणे आहे.
B8: 1. जन्म तारीख | C8: :- | D8: =+'Input Data'!F6 -> 25939
B9: 2. सेवेतील रुजू दिनांक | C9: :- | D9: =+'Input Data'!C6 -> 34744
B10: 3. सेवानिवृत्तीची तारीख | C10: :- | D10: =+'Input Data'!C7 -> 47149
B11: 4. झालेली सेवा | C11: :- | D11: =+'Calculation of Pension'!D8 -> 33 Years, 11 Months, 17 Days
B13: 5. ना देय/ना चौकशी/ ना घटना प्रमाणपत्र
A14: खालील प्रमाणे विभागीय चौकशी/ न्यायालयीन प्रकरण प्रलंबित नसल्याबाबतचे प्रमाणपत्र प्राप्त झाले आहे.
A15: I कार्यकारी अभियंता, सा.बां.विभाग, xxxx, यांचे पत्र क्र. xxxx दि. Xx/xx/2024 नुसार ना-देय, ना-मागणी, ना-चौकशी प्रमाणपत्र प्राप्त. ( दि. 16.1.1992 ते 28.8.1996 )
A16: II कार्यकारी अभियंता, वि.प्र.(सा.बां.)विभाग क्र.२, xxx, यांचे पत्र क्र. xxx दि. xx/xx/2024 नुसार ना-देय, ना-मागणी, ना-चौकशी प्रमाणपत्र प्राप्त. ( दि. 29.08.1996 ते 16.10.1997 )
A17: III कार्यकारी अभियंता, राष्ट्रीय महामार्ग विभाग, xxxx, यांचे पत्र क्र. xxx दि. xx/xx/2024 नुसार ना-देय, ना-मागणी, ना-चौकशी प्रमाणपत्र प्राप्त. ( दि. 17.10.1997 ते 18.03.2004 )
A18: IV अधीक्षक अभियंता, सा.बां.मंडळ, xxxx, यांचे पत्र क्र यांचे पत्र क्र. xxx दि. Xx/xx/2024 नुसार ना-देय, ना-मागणी, ना-चौकशी प्रमाणपत्र प्राप्त. ( दि. 18.03.2004 ते 22.02.2008 व 22.02.2008 ते 01.08.2015 प्रथम लिपीक )
A19: ="दिनांक xxx xxx ते आजपर्यत या कार्यालयात "&'Input Data'!F4&"या पदावर कार्यरत आहेत." -> दिनांक xxx xxx ते आजपर्यत या कार्यालयात वरिष्ठ लिपीक, या पदावर कार्यरत आहेत.
A20: =" तसेच या कार्यालयाच्या दस्तऐवजानुसार "&B4&"यांचेवर विभागीय चौकशी प्रलंबीत अथवा प्रस्तावीत नाही. तसेच शासकीय येणे बाकी नाही आणि निवृत्ती वेतनाचे पुनर्विलोकन करावे अशी कोणतीही घटना घडलेली नाही." -> तसेच या कार्यालयाच्या दस्तऐवजानुसार श्री. प्रमोद महादेव पुरी, वरिष्ठ लिपीक, यांचेवर विभागीय चौकशी प्रलंबीत अथवा प्रस्तावीत नाही. तसेच शासकीय येणे बाकी नाही आणि निवृत्ती वेतनाचे पुनर्विलोकन करावे अशी कोणतीही घटना घडलेली नाही.
A21: =+'Office N. E.L'!O6 -> श्री. प्रमोद महादेव पुरी, वरिष्ठ लिपीक, 33 Years, 11 Months, 17 Days 46200/- ईतके आहे.
A22: ="महाराष्ट्र शासन, वित्त विभाग, शासन निर्णय क्रमांक सेनिवे-2014/प्र.क्र.36/सेवा-4/ दिनांक 02 जुलै 2015 अन्वये निवृत्ती वेतन प्रकरण सेवार्थ प्रणलीमार्फत online पद्धतीने, महालेखाकार, यांचेकडे सादर करावयाचे आहे. त्यानुसार "&B4&" यांचे सेवानिवृत्ती वेतन प्रकरण सेवार्थ प्रणलीमार्फत online तयार करण्यात आले आहे. " -> महाराष्ट्र शासन, वित्त विभाग, शासन निर्णय क्रमांक सेनिवे-2014/प्र.क्र.36/सेवा-4/ दिनांक 02 जुलै 2015 अन्वये निवृत्ती वेतन प्रकरण सेवार्थ प्रणलीमार्फत online पद्धतीने, महालेखाकार, यांचेकडे सादर करावयाचे आहे. त्यानुसार श्री. प्रमोद महादेव पुरी, वरिष्ठ लिपीक, यांचे सेवानिवृत्ती वेतन प्रकरण सेवार्थ प्रणलीमार्फत online तयार करण्यात आले आहे.
A23: सेवानिवृत्ती प्रकरण हे सेवार्थ प्रणालीत प्रविष्ठ केल्यानंतर सेवार्थ प्रणालीनुसार खालील प्रमाणे त्यांना निवृत्ती वेतन, सेवानिवृत्ती उपदान, कुटूंब निवृत्ती वेतन व अंशराशीकरण अनुज्ञेय ठरते.
B25: 8. निवृत्ती वेतन | C25: :- | D25: =+'Calculation of Pension'!C15 -> 36000 | E25: एवढे अनुज्ञेय आहे.
B26: 9. सेवानिवृत्ती उपदान | C26: :- | D26: =+'Calculation of Pension'!C21 -> 1188000 | E26: एवढे अनुज्ञेय आहे.
B27: 10. अंशराशीकरण | C27: :- | D27: =+'Calculation of Pension'!C13 -> 1446509 | E27: एवढे अनुज्ञेय आहे.
A28: =+B4&"यांचे सेवानिवृत्ती प्रकरणात वरील प्रमाणे लाभ प्रस्तावीत करण्यात आले आहे. सदरचे प्रकरण हे महालेखाकार नागपुर यांचे कडे पाठविण्यास हरकत नसावी. आपले आदेशार्थ सविनय सादर. " -> श्री. प्रमोद महादेव पुरी, वरिष्ठ लिपीक, यांचे सेवानिवृत्ती प्रकरणात वरील प्रमाणे लाभ प्रस्तावीत करण्यात आले आहे. सदरचे प्रकरण हे महालेखाकार नागपुर यांचे कडे पाठविण्यास हरकत नसावी. आपले आदेशार्थ सविनय सादर. | C28: :-
A30: (प्र.म.पुरी)
A31: का-४(१) | D31: (xxxxxxx)
D32: विशेष अधीक्षक

Sheet Calculation of Pension
B1: My Pension and Benefits after Retirement | F1: लाल रंगातीलच माहीती भरावी
A2: 1 | B2: Name | C2: :- | D2: =+'Input Data'!C3 -> Pramod Mahadeo Puri
A3: 2 | B3: Designation | C3: :- | D3: =+'Input Data'!C4 -> Senior Clerk
A4: 3 | B4: Basic (Last Month) | C4: :- | D4: 72000
A5: 4 | B5: Date of Birth | C5: :- | D5: =+'Input Data'!F6 -> 25939
A6: 5 | B6: Date of Joining | C6: :- | D6: =+'Input Data'!C6 -> 34744 | H6: Next Year Age 51 | I6: 8.808
A7: 6 | B7: Date of Retirement | C7: :- | D7: =+'Input Data'!C7 -> 47149
A8: 7 | B8: Length of Service | C8: :- | D8: =+DATEDIF(D6,D7,"Y")&" Years, "&DATEDIF(D6,D7,"Ym")&" Months, "&DATEDIF(D6,D7,"md")&" Days " -> 33 Years, 11 Months, 17 Days | H8: स्वेच्छासेवानिवृत्ती 52 | I8: 8.708
A9: Commuted Value of Pension | H9: स्वेच्छासेवानिवृत्ती 53 | I9: 8.724
B10: पेन्शनची विक्री करावयाची आहे का? Commuted of Pension | C10: Yes | H10: स्वेच्छासेवानिवृत्ती 54 | I10: 8.678
A11: 8 | B11: CVP Rate | C11: 8.371 | H11: स्वेच्छासेवानिवृत्ती 55 | I11: 8.627
A12: 9 | B12: Commuted Monthly Pension amount | C12: =ROUND(IF(C10="No",0,(D4/2)*0.4),0) -> 14400 | H12: स्वेच्छासेवानिवृत्ती 56 | I12: 8.572
A13: 10 | B13: Commuted Value of Pension | C13: =+ROUND(C12*12*C11,0) -> 1446509 | H13: स्वेच्छासेवानिवृत्ती 57 | I13: 8.512
A14: Pension | H14: स्वेच्छासेवानिवृत्ती 58 | I14: 8.446
A15: 11 | B15: Total Pension Amount | C15: =+D4/2 -> 36000 | H15: Class III 59 | I15: 8.371
A16: 12 | B16: Commuted Monthly Pension amount | C16: =+C12 -> 14400 | H16: स्वेच्छासेवानिवृत्ती 60 | I16: 8.287
A17: 13 | B17: Reduced Pension Amount (12-13) | C17: =+C15-C16 -> 21600 | H17: Class IV 61 | I17: 8.194
A18: Retirement Gratuity
A19: 14 | B19: Gratuity Amount | C19: {=+C15/2*MIN(66, DATEDIF(D6,D7,"Y")*2 + _xlfn.IFS(DATEDIF(D6,D7,"Ym")>9, 2, DATEDIF(D6,D7,"Ym")>3, 1, TRUE, 0))} -> 1188000
A20: 15 | B20: Withheld Gratuity / Govt-other Recovery. | C20: 0
A21: 16 | B21: Net Gratuity (15-16) | C21: =IF(C19>2000000,2000000,C19) -> 1188000 | I21: Yes
A22: Family Pension | I22: No
A23: 17 | B23: Enhanced Family Pension (Upton 7 years than retirement or death which ever is earlier) Date and Amount | C23: =+D5+23740 -> 49679 | E23: =+C15 -> 36000
A24: 18 | B24: Family Pension (After 7 years than retirement or death which ever is latter) Date and Amount | C24: =+C23+1 -> 49680 | E24: =+ROUND(D4*30%,0) -> 21600
B25: Todays D.A. | D25: 0.5 | E25: =+C15*D25 -> 18000
A26: All Benefits after retirement
A27: I | B27: Pension in Hand | D27: =+C15+E25-C16 -> 39600 | E27: Tresury
A28: II | B28: Leave Encashment | C28: :- | D28: =((D4)*D25+(D4))*E28/30 -> 1080000 | E28: 300
A29: III | B29: G.P.F. (As Per your investment) | C29: :- | E29: DDO
A30: IV | B30: G.I.S. (As per Calcutation) | C30: :- | E30: DDO
A31: V | B31: Transfer T.A. Bill ( Retirement place to your home Town) | C31: :- | E31: DDO
A32: VI | B32: Commuted Value of Pension | C32: :- | D32: =+C13 -> 1446509 | E32: Tresury
A33: VII | B33: Retirement Gratuity | C33: :- | D33: =+C21 -> 1188000 | E33: Tresury
A34: VIII | B34: Total Amount in your hand after Retirement | D34: =SUM(D28:D33) -> 3714509

Sheet Commutation Form A
K1: Gen. 349 me ÃÖ¾ÖÔÃÖÖ 349 ´Ö‡Ô
K2: [Form-A
A3: नमुना-ए
A4: FORM A
A5: (महाराष्ट्र नागरी सेवा (निवृत्ती वेतनाचे अंशराशीकरण ) नियम , 1984 मधील नियम 5 (2), 6(1) 12, 13 (1) व (2) , 14 (1) व (2), 15 (1) व (2) आणि 16 (1) व (2) पहा )
A6: वैद्यकीय तपासणीशिवाय निवृत्तीवेतनाच्या काही भागाच्या अंशराशीकरणासाठी अर्जाचा नमुना Form of application for commutation of a fraction of n Pension without medical Examination
A7: (सेवानिवृत्ती नंतर परंतू सेवानिवृत्तीच्या तारखेपासून एक वर्षाच्या आत दोन प्रती सादर कराव्यात To be submitted in duplicate after retirement but within one year of the date of retirement)
A8: भाग - एक PART I
B9: प्रति,
B10: मुख्य अभियंता | H10: (येथे कार्यालय प्रमुखाचे पदनाम
B11: सार्वजनिक बांधकाम प्रादेशिक विभाग | H11: व संपूर्ण पत्ता नमुद करावा )
B12: अमरावती | H12: (Here indicate the designation
B13: जि. अमरावती | H13: and full address of the head of Office )
D14: यांस,
C15: विषय - वैद्यकीय तपासणीशिवाय निवृत्तीवेतनाचे अंशराशीकरण.
C16: Subject -Commucation of Pension without medical examination.
A17: ´ÖÆüÖê¤üµÖ , Sir,
A18: महाराष्ट्र नागरी सेवा (निवृत्ती वेतनाचे अंशराशीकरण ) नियम , 1984 मधील नियम मधील तरतुदीनुसार, खाली दर्शविण्यात आल्याप्रमाणे मला माझ्या निवृत्तीवेतनाच्या काही भागाचे अंशराशीकरण करावयाचे आहे . आवश्यक तपशील खाली दिला आहे I desire to commute a fraction of may pension as indicated below in accordance with the provision contrined in Mahrashtra Civil Service ( Communication of Pension ) Rules , 1984. The necessary perticulars are furnished below :-
A19: 1 | B19: संपूर्ण नांव (in block letter) | J19: :- | K19: =+'Calculation of Pension'!D2 -> Pramod Mahadeo Puri
A20: 2 | B20: वडीलांचे नांव / पतीचे नांव ( Father's name / Husband's Name) | J20: :- | K20: Shri ….......................
A21: 3 | B21: सेवानिवृत्तीच्या वेळी असलेले पदनाम Designation at the time of retirement. | J21: :- | K21: =+'Calculation of Pension'!D3 -> Senior Clerk
A22: 4 | B22: जेथे काम करीता असेल त्या कार्यालयाचे / विभागाचे नांव Name of Office / Department of which employed. | J22: :- | K22: Chief Engineer, Public Works Region, Amravati.
A23: 5 | B23: जन्मतारीख (इसवी सनानुसार ) Date of Birth (by Christain era) | J23: :- | K23: =+'Calculation of Pension'!D5 -> 25939
A24: 6 | B24: सेवानिवृत्तीची तारीख Date of retirement | J24: :- | K24: =+'Calculation of Pension'!D7 -> 47149
A25: 7 | B25: निवृत्तीवेतनाचा प्रकार. Class of pension | J25: :- | K25: Superannuation Of Pension
A26: 8 | B26: प्राधिकृत करण्यात आलेली निवृत्तीवेतनाची रक्कम [ निवृत्तीवेतनाची अंतिम रक्कम प्राधिकृत करण्यात आली नसेल तर, महाराष्ट्र नागरी सेवा (निवृत्तीवेतन) नियम, 1982 मधील नियम 126 अन्वये मंजूर करण्यात आलेल्या तात्पुरत्या निवृत्तीवेतनाची रक्कम नमुद करावी.] Amount of pension authorised [in case fibal amount of pension has not been authrised, indicate the amount of provisional pension sanctioned under rule 126 of the Maharashtra Civil Services (Pension) Rules,1982] | J26: :- | K26: Nil
A27: 9 | B27: * अंशराशीकरणासाठी प्रस्तावित केलेला नियत वयमान निवृत्तीवेतनाचे भाग Fraction of Superannusation Pension preposed to be commuted. | J27: :- | K27: 0.4
A28: 10 | B28: निवृत्तीवेतन प्राधिकृत करणाऱ्या लेखापरीक्षा अधिकाऱ्याचे पदनाम व निवृत्तीवेतन प्रदान आदेश देण्यात आला असेल तर, त्याचा क्रमांक व दिनांक. Designation of th Audit Officer who authrised the pension and the number and date of the Pension Payment Order, if issued. | J28: :- | K28: लेखापरिक्षा अधिकारी महालेखाकार नागपूर
A29: 11 | B29: ** निवृत्तीवेतनाच्या प्रदानासाठी संवितरण प्राधीकरण (ए) कोषागार / उपकोषागार (कोषागाराचे / उपकोषागाराचे नांव व संपूर्ण पत्ता) (बी) (एक) राष्ट्रीयकृत बॅकेची शाखा व तिचा संपुर्ण पत्ता (दोन) मासिक निवृत्तीवेतन ज्या बॅकखाते क्रमांकावर प्रत्येक महीन्यात जमा करावयाचे ते खाते क्रमांक Disbursing authority for payment of pension (a) Treasury / Sub-treasury (Name and complete address of the Treasury / su-treasury to be indicated (b)(i) Branch of the Nationalised Bank with complete postal address (ii) Bank Account Number to which monthly pension is to be credited each month. | J29: :- | K29: District Treasury Office, Amravati. State Bank Of India, Camp Branch, Amravati. Saving A/C No XXXXXXXXXX
B31: ठिकाण Place :- | D31: अमरावती | J31: सही Signature
B32: दिनांक Date :- | D32: =TODAY() -> 45644 | J32: डाक पत्ता Postal address
A34: टिप Note:- | B34: जेथून निवृत्तीवेतन घेण्यात येते त्या प्राधिकरणामार्फत निवृत्तीवेतनाच्या अंशराशीकृत मुल्याचे प्रदान करण्यात येईल . अशा प्राधिकरणाव्यतिरिक्त इतर कोणत्याही संवितरण प्राणिकरमार्फत निवृत्तीवेतनाचे अंशराशीकृतमूल्य घेण्याची मुभा अर्जदाराला असणार नाही. The payment of commuted value of pension shall be made through the disbursing authority from which pension is to be drawn. It is not open to an applicant to draw the commuted value of pension from a disbursing authority other that the disburing authority from wich pension is to be drawn.
B35: * ज्या मासिक निवृत्तीवेतनाच्या रकमेचे (कमाल एक तृतीययांश भागाच्या अधीन राहून ) अर्जदार अंशराशीकरण करू इच्छीतो, तो भाग येथे नमुद करावा . परंतु ती रक्कम रूपयामध्ये नमुद करू नये . The application should indicate the fraction of the amount of monthly pension (subject to maximum of one third thereof ) which he desire to commute and not the amount in rupees .
B36: ** लागु नसलेला मजकूर खोडावा. Score out which is not applicable .
A38: भाग - दोन PART II पोच पावती ACKNOWLEDGEMENT
A39: श्री /श्रीमती / कुमारी Received from Shri./ Smt/Kum | H39: =+K19&L39&K21 -> Pramod Mahadeo Puri, Senior Clerk | L39: ,
A40: यांच्याकडून वैद्यकीय तपासणीशिवाय निवृत्तीवेतनाच्या भागाचे अंशराशीकरण करण्यासंबंधातील नमुना "ए" च्या भाग-एक मधील अर्ज मिळाला.
A41: ठिकाण Place :- | C41: अमरावती | J41: ÃÖÆüß Signature
A42: दिनांक Date :- | C42: =TODAY() -> 45644 | J42: कार्यालय प्रमुख Head of Office
A43: टिप Note:- | B43: या पोचपावतीवर सहीशिक्यानिशी दिनांक टाकावा आणि त्यानंतर ती नमुन्यापासून अलग करून अर्जदाराकडे सुपुर्द करावी. नमुना डाकेले आला असेल तर , त्याची पोच त्याच दिवशी देण्यात यावी आणि ती पोचपावती नोंदणीकृत पाकिटामधून पाठवावी. This acknowledgement is to be singed, stamped and dated and is to be detached from the Form and handed over to thethe applicant if the Form has been received by post it has to be acknowledged on the same day and the , acknowledgment sent under registered cover.
...

Sheet Commutation Form B
A1: नमुना बी
A2: FORM B
A3: (महाराष्ट्र नागरी सेवा (निवृत्ती वेतनाचे अंशराशीकरण ) नियम , 1984 मधील नियम 5 (2), 12,13(3) , 14(1) ,0,15 (3) निवृत्ती वेतन प्रदान आदेश देतांना निवृत्तीवेतनाच्या अंशराशीकृत मुल्याचे प्रदान प्राधिकृत करण्यात यावे अशी अर्जदाराची इच्छा असेल त्यावेळी, वैद्यकिीय तपासणीशिवाय नियत वयमान निवृत्तीवेतनाच्या काही भागाचे अंशराशीकरण करण्यासाठी अर्जाचा नमुना (सेवानिवृत्ती तीन महीन्यांच्या आत दोन प्रती सादर कराव्यात)
A4: form of application for commutation of a fraction of Superannuation Pension without medical examination when desires that the payment of the commuted value of pension should be authorised at applicant the time of issue of the Pension Payment Order.
A5: ( To be submitted in duplicate at least three months before that date of retirement .)
A6: भाग-एक PART-I
B7: प्रति,
B8: मुख्य अभियंता | H8: (येथे कार्यालय प्रमुखाचे पदनाम
B9: सार्वजनिक बांधकाम प्रादेशिक विभाग | H9: व संपूर्ण पत्ता नमुद करावा )
B10: अमरावती. 444602 | H10: (Here indicate the designation
B11: जि. अमरावती | H11: and full address of the head of Office )
C12: यांस,
C13: विषय - वैद्यकीय तपासणीशिवाय निवृत्तीवेतनाचे अंशराशीकरण
C14: Subject -Commucation of Pension without medical examination
A15: महोदय , Sir,
A16: महाराष्ट्र नागरी सेवा (निव्‌त्तीवेतनाचे अंशराशीकरण ) नियम , 1984 मधील नियम मधील तरतुदीनुसार, खाली दर्शविण्यात आल्याप्रमाणे मला माझ्या निवृत्तीवेतनाच्या काही भागाचे अंशराशीकरण करावयाचे आहे. आवश्यक तपशील खाली दिला आहे :-
A17: I desire to commute a fraction of may pension as indicated below in accordance with the provision contrined in Mahrashtra Civil Service ( Communication of Pension ) Rules, १९८४. The necessary perticulars are furnished below :-
A18: 1 | B18: संपूर्ण नांव (in block letter) | J18: :- | K18: =+'Commutation Form A'!K19 -> Pramod Mahadeo Puri
A19: 2 | B19: वडीलांचे नांव / पतीचे नांव ( Father's name / Husband's Name) | J19: :- | K19: =+'Commutation Form A'!K20 -> Shri ….......................
A20: 3 | B20: पदनाम Designation | J20: :- | K20: =+'Commutation Form A'!K21 -> Senior Clerk
A21: 4 | B21: जेथे काम करीता असेल त्या कार्यालयाचे / विभागाचे नांव Name of Office / Department of which employed. | J21: :- | K21: =+'Commutation Form A'!K22 -> Chief Engineer, Public Works Region, Amravati.
A22: 5 | B22: जन्मतारीख (इसवी सनानुसार ) Date of Birth (by Christain era) | J22: :- | K22: =+'Commutation Form A'!K23 -> 25939
A23: 6 | B23: नियत वयोमान सेवानिवृत्तीचे तारीख Date of retirement on superannuation | J23: :- | K23: =+'Commutation Form A'!K24 -> 47149
A24: 7 | B24: * अंशराशीकरणासाठी प्रस्तावित केलेला नियत वयमान निवृत्तीवेतनाचे भाग Fraction of Superannusation Pension preposed to be commuted. | J24: :- | K24: =+'Commutation Form A'!K27 -> 0.4
A25: 8 | B25: ** सेवानिवृत्तीवेतन घ्यावयाचे ते संवितरण प्राधीकरण (ए) कोषागार / उपकोषागार (कोषागाराचे / उपकोषागाराचे नांव व संपूर्ण पत्ता) (बी) (एक) राष्ट्रीयकृत बॅकेची शाखा व तिचा संपुर्ण पत्ता (दोन) मासिक निवृत्तीवेतन ज्या बॅकखाते क्रमांकावर प्रत्येक महीन्यात जमा करावयाचे ते खाते क्रमांक Disbursing authority from which pension is to be drawan after retirement Treasury / Sub-treasury (Name and complete address of the Treasury / su-treasury to be indicated Branch of the Nationalised Bank with complete postal address Bank Account Number to which monthly pension is to be credited each month. | J25: :- | K25: =+'Commutation Form A'!K29 -> District Treasury Office, Amravati. State Bank Of India, Camp Branch, Amravati. Saving A/C No XXXXXXXXXX
G26: सही Signature
B27: ठिकाण Place :- | C27: अमरावती | G27: सध्याचा डाक पत्ता / सेवानिवृत्तीनंतरचा डाक पत्ता Present Postal Address / Postal address after retirement
B28: दिनांक Date:- | C28: =TODAY() -> 45644
A29: टिप :- सेवानिवृत्तीवेतन जेथुन निवृत्तीवेतन घेण्यात येणार असेल, त्या प्राधिकरणामार्फत निवृत्तीवेतनाच्या अंशराशीकृत मुल्याचे प्रदान करण्यात येईल . अशा प्राधिकरणाव्यतिरिक्त इतर कोणत्याही संवितरण प्राणिकरमार्फत निवृत्तीवेतनाचे . अंशराशीकृतमूल्य घेण्याची मुभा अर्जदाराला असणार नाही
A30: Note :- The payment of commuted value of pension shall be made through the disbursing authority from which pension is to be drawn after retirement . It is not open to an applicant to draw the commuted value of pension from a disbursing authority other that the disburing authority from which pension is to be drawn.
A31: * ज्या मासिक निवृत्तीवेतनाच्या रकमेचे (कमाल एक तृतीययांश भागाच्या अधीन राहून ) अर्जदार अंशराशीकरण करू इच्छीतो, तो भाग येथे नमुद करावा . परंतु ती रक्कम रूपयामध्ये नमुद करू नये . The application should indicate the fraction of the amount of monthly pension (subject to maximum of one third thereof ) which he desire to commute and not the amount in rupees .
A32: ** लागु नसलेला मजकूर खोडावा . Score out which is not applicable .
A34: भाग -दोन पोच पावती PART- II ACKNOWLEDGEMENT
A35: श्री /श्रीमती / कुमारी Received from Shri./ Smt/Kum | H35: =+'Commutation Form A'!H39 -> Pramod Mahadeo Puri, Senior Clerk
A36: यांच्याकडून वैद्यकीय तपासणीशिवाय निवृत्तीवेतनाच्या भागाचे अंशराशीकरण करण्यासंबंधातील नमुना बी च्या भाग एक मधील अर्ज मिळाला. Application in Part-I of Form -B for commutation if a fraction of pension without medical examination.
A38: ठिकाण Place :- | C38: अमरावती | J38: ÃÖÆüß Signature
A39: दिनांक Date :- | C39: =TODAY() -> 45644 | J39: कार्यालय प्रमुख Head of Office
A42: टिप :- नियत वयमान सेवानिवृत्तीच्या तारखेपूर्वी तीन महीन्याच्या कालावधी संपण्याच्या आत कार्यालय प्रमुखाला अर्ज मिळाला असेल तर , हि पोच पावती नमुन्यापासुन अलग करून अर्जदाराकडे सुपुर्द करावी . अर्ज डाकेले आला असेल तर , त्याची पोंच त्याचं दिवशी द्यावी व ती पावती अर्जदाराकडे नोंदणीकृत पाकिटामधून पाठवावी . अर्ज विनिर्दिष्ट तारखेनंतर किंवा त्या तारखेपूर्वी डाकेने पाठविण्यात आला याबद्दल सबळ पुरावा अर्जदाराने सादर केल्यानंतरच तो अर्ज स्विकारण्यात यावा .
A43: Note :- If the application has been received by the Head of Office before the expiry of three months before the dtae of retirement on superannuation, this acknowledgement should be detached from the Form and handed over to the the applicant if the Form has been received by post it has to be acknowledged on the same day and the , acknowledgment sent under registered coved to the applicant. In case it is received after the specified date. It should be accepted only if it has been put into the post on or before that date subject to the production of evidence to that effect by the applicant.
G44: भाग - तिन
...

Sheet नमुना ५
A1: नमुना ५ चे सहपत्र / Enclose of Form 5
A2: सहच्या नमुन्याची चिठ्ठी
A3: SPECIMENT SIGNATURE SLIP
A4: =+'GPF Forms'!A94 -> श्री. प्रमोद महादेव पुरी, वरिष्ठ लिपीक, यांच्या सहीचा नमुना
A5: ="Specimen Signature of "&'Input Data'!C3&'Input Data'!C4 -> Specimen Signature of Pramod Mahadeo Puri Senior Clerk
A6: .(1) | B6: -------------------------------------------------------------
A7: .(2) | B7: -------------------------------------------------------------
A8: .(3) | B8: -------------------------------------------------------------
A9: प्रमाणित करण्यात येते की , वरील नमुना सही माझ्या समक्ष करण्यात आली. Certified that the above specimen signature was taken in my presence.
F12: सही
F13: Signature
F14: पदनाम
F15: Designation
F16: विभाग / कार्यालय
A17: दिनांक | B17: =TODAY() -> 45644 | F17: Department / Office
A18: Date
A20: (राजपत्रीत शासकीय कर्मचाऱ्याने साक्षांकित केलेल्या असाव्यात)
A21: To be attested by a Gazetted Government Servant)
K22: :1:

Sheet नमुना ५ वर्णपट
A1: (राजपत्रीत शासकीय कर्मचाऱ्याने साक्षांकित केलेल्या असाव्यात)
A2: To be attested by a Gazetted Government Servant)
A3: नमुना ५ चे सहपत्र/ Enclose of Form 5
A4: वर्णन पट
A5: DESCRIPTIVE ROLL
A6: (‹ú) | B6: उंची | J6: :- | K6: =+'Input Data'!F8 -> 5 Feet 8 Inches
A7: (¤üÖê­Ö) | B7: हात चेहरा इत्यादींवर असल्यास , कोणत्याही वैयक्तीक खुणा .Personal marks, if any, on the had , face etc. | J7: :- | K7: =+'Input Data'!C9 -> Mole on left cheek
A8: =+"प्रमाणित करण्यात येते की , वरील ओळखचिन्हे " &'Input Data'!F3&'Input Data'!F4&"यांचे आहेत. " &"Certified that the above identification marks are those of "&'Input Data'!C3&'Input Data'!C4 -> प्रमाणित करण्यात येते की , वरील ओळखचिन्हे श्री. प्रमोद महादेव पुरी, वरिष्ठ लिपीक, यांचे आहेत. Certified that the above identification marks are those of Pramod Mahadeo Puri Senior Clerk
F12: सही
F13: Signature
F14: पदनाम
A15: दिनांक | B15: =+'नमुना ५'!B17 -> 45644 | F15: Designation
A16: Date | F16: विभाग / कार्यालय
F17: Department / Office
M19: :2:

Sheet नमुना ५ छायाचित्र
A1: नमुना ५ चे सहपत्र / Enclose of Form 5
A2: निवृत्तीवेतनधारकाचे छायाचित्र
A3: PENSIONER'S PHOTOGRAPH
I7: निवृत्तीवेतनधारकाची सही
I8: Signature of the Pensioner
F10: कार्यालय प्रमुख यांची सही
F11: Signature of the Head of Office
A12: ="प्रमाणित करण्यात येते की , वरील सही व छायाचित्र "&'Input Data'!F3&'Input Data'!F4&"यांचे आहेत. "&"Certified that the signature and photograph are those of "&'Input Data'!C3&'Input Data'!C4 -> प्रमाणित करण्यात येते की , वरील सही व छायाचित्र श्री. प्रमोद महादेव पुरी, वरिष्ठ लिपीक, यांचे आहेत. Certified that the signature and photograph are those of Pramod Mahadeo Puri Senior Clerk
F16: सही
F17: Signature
F18: पदनाम
F19: Designation
A20: दिनांक | B20: =+'नमुना ५ वर्णपट'!B15 -> 45644 | F20: विभाग / कार्यालय
A21: Date | F21: Department / Office
L24: :3:

Sheet प्रमाणपत्र NOC
A1: प्रमाणपत्र
A5: ="प्रमाणित करण्यात येते की," &'Input Data'!F3&'Input Data'!F4&"यांचेवर विभागीय चौकशी प्रस्तवीत अथवा प्रलंबीत नाही." -> प्रमाणित करण्यात येते की,श्री. प्रमोद महादेव पुरी, वरिष्ठ लिपीक, यांचेवर विभागीय चौकशी प्रस्तवीत अथवा प्रलंबीत नाही.
I10: कार्यालय प्रमुख यांची सही
I11: Signature of the Head of Office
A14: - - - - - - - - - - - - - - - - - - - - - - - - - - - - - - - - - - - - - - - - - - - - - - - - - - - - - - - - - - -
A16: ="प्रमाणित करण्यात येते की," &'Input Data'!F3&'Input Data'!F4&"यांचे कडून शासकीय येणे बाकी नाही. " -> प्रमाणित करण्यात येते की,श्री. प्रमोद महादेव पुरी, वरिष्ठ लिपीक, यांचे कडून शासकीय येणे बाकी नाही.
I21: कार्यालय प्रमुख यांची सही
I22: Signature of the Head of Office
A25: - - - - - - - - - - - - - - - - - - - - - - - - - - - - - - - - - - - - - - - - - - - - - - - - - - - - - - - - - - -
A27: ="प्रमाणित करण्यात येते की," &'Input Data'!F3&'Input Data'!F4&"यांचे विरुद्ध अशी कुठलिही घटना घडलेली नाही कि ज्यामुळे त्यांच्या निवृत्तीवेतनावर परिणाम होईल." -> प्रमाणित करण्यात येते की,श्री. प्रमोद महादेव पुरी, वरिष्ठ लिपीक, यांचे विरुद्ध अशी कुठलिही घटना घडलेली नाही कि ज्यामुळे त्यांच्या निवृत्तीवेतनावर परिणाम होईल.
I33: कार्यालय प्रमुख यांची सही
I34: Signature of the Head of Office
K35: :4:

Sheet Office N.GPF
A1: कार्यालयीन टिपणी
A2: =TODAY() -> 45644
A3: विषय:-भविष्य निर्वाह निधीच्या अंतीम प्रदानाबाबतचा प्रस्ताव.
A4: =+"संदर्भ :- "&'Input Data'!F3&'Input Data'!F4&"यांचा अर्ज दिनांक "&'Input Data'!F5 -> संदर्भ :- श्री. प्रमोद महादेव पुरी, वरिष्ठ लिपीक, यांचा अर्ज दिनांक 19-09-2024
A5: महोदय,
A6: =" "&'Input Data'!F3&'Input Data'!F4&"हे न‍ियत वयोमानानुसार दिनांक "&'Input Data'!J7&" (म.नं) शासकीय सेवेतून सेवानिवृत्त होत आहेत." -> श्री. प्रमोद महादेव पुरी, वरिष्ठ लिपीक, हे न‍ियत वयोमानानुसार दिनांक 31-01-2029 (म.नं) शासकीय सेवेतून सेवानिवृत्त होत आहेत.
A7: =" "&'Input Data'!F3&'Input Data'!F4&"यांचे भविष्य निर्वाह निधीतील अंतीम प्रदानाकरिता महालेखाकार-2, लेखा व अनुज्ञेयता, महाराष्ट्र राज्य, नागपूर यांचेकडे विहीत नमुन्यात व्दिप्रतीत अर्ज सादर करावयाचा आहे." -> श्री. प्रमोद महादेव पुरी, वरिष्ठ लिपीक, यांचे भविष्य निर्वाह निधीतील अंतीम प्रदानाकरिता महालेखाकार-2, लेखा व अनुज्ञेयता, महाराष्ट्र राज्य, नागपूर यांचेकडे विहीत नमुन्यात व्दिप्रतीत अर्ज सादर करावयाचा आहे.
A8: =" "&'Input Data'!F3&'Input Data'!F4&"यांचा भविष्य निर्वाह निधी खाते क्रमांक "&'Input Data'!F7&"आहे. सदरील खात्याचा लेखा महालेखाकार -2, (लेखा व अनुज्ञेयता) महाराष्ट्र राज्य, नागपूर, यांचेकडे ठेवण्यात येतो." -> श्री. प्रमोद महादेव पुरी, वरिष्ठ लिपीक, यांचा भविष्य निर्वाह निधी खाते क्रमांक BR/BN-46715आहे. सदरील खात्याचा लेखा महालेखाकार -2, (लेखा व अनुज्ञेयता) महाराष्ट्र राज्य, नागपूर, यांचेकडे ठेवण्यात येतो.
A9: सेवान‍िवृत्तीचे द‍िनांकापुर्वी तीन मह‍िने आगोदर भव‍िष्य निर्वाह न‍िधीचे मासीक अभ‍िदान बंद करण्यात येते. त्यानंतर अंत‍िम प्रदानाबाबतचा प्रस्ताव महालेखाकार यांचेकडे सादर करण्यात येतो.
A10: =+A6&" त्यामुळे त्यांचे सेवानिवृत्तीपुर्वी 3 महीने आधी पासुन सेवार्थ प्रणालीमध्ये त्यांचे मासीक अभ‍िदान बंद झाले आहे." -> श्री. प्रमोद महादेव पुरी, वरिष्ठ लिपीक, हे न‍ियत वयोमानानुसार दिनांक 31-01-2029 (म.नं) शासकीय सेवेतून सेवानिवृत्त होत आहेत. त्यामुळे त्यांचे सेवानिवृत्तीपुर्वी 3 महीने आधी पासुन सेवार्थ प्रणालीमध्ये त्यांचे मासीक अभ‍िदान बंद झाले आहे.
A11: =" "&"सबब, " &'Input Data'!F3&'Input Data'!F4&" यांचा भविष्य निर्वाह निधीच्या अंतीम प्रदानाचा प्रस्ताव महालेखाकार-2 नागपूर यांचेकडे पाठविण्याबाबतचा प्रस्ताव स्वाक्षरीकरिता सादर. " -> सबब, श्री. प्रमोद महादेव पुरी, वरिष्ठ लिपीक, यांचा भविष्य निर्वाह निधीच्या अंतीम प्रदानाचा प्रस्ताव महालेखाकार-2 नागपूर यांचेकडे पाठविण्याबाबतचा प्रस्ताव स्वाक्षरीकरिता सादर.
A12: आदेशार्थ सादर.

Sheet GPF Forms
D1: Gen 218 m /सर्वसा 218 म
A2: नमुना
A3: (दोन प्रतीत सादर करावयाचा) (राजपत्रित व अराजपत्रित अशा दोन्ही प्रकारच्या कर्मचाऱ्यांसाठी ) सर्वसाधारण / अंशदायी भविष्य निर्वाह निधी लेख्यातील शिल्लक रकमेचे अंतिम प्रदान करण्यासाठी / नियम निकायांकडे (बॉडी कॉर्पोरेटस) / इतर शासनाकडे तिचे हस्तांतरण करण्यासाठी करावयाचा अर्जाचा नमुना.
B5: प्रति,
B6: महालेखापाल 2
B7: लेखा व अनुज्ञेयता
B8: महाराष्ट्र राज्य
B9: नागपूर
A10: महोदय,
A11: =" "&"1. मी खालील सही करणार, "&'Input Data'!F3&'Input Data'!F4&"असा अर्ज करतो मी दिनांक "&'Input Data'!J7&" रोजी नियत वयोमानामुळे सेवानिवृत्त होत आहे." -> 1. मी खालील सही करणार, श्री. प्रमोद महादेव पुरी, वरिष्ठ लिपीक, असा अर्ज करतो मी दिनांक 31-01-2029 रोजी नियत वयोमानामुळे सेवानिवृत्त होत आहे.
A12: =" "&"2. माझा सर्वसाधारण भविष्य निर्वाह निधी लेखा क्रमांक "&'Input Data'!F7&" हा आहे. " -> 2. माझा सर्वसाधारण भविष्य निर्वाह निधी लेखा क्रमांक BR/BN-46715 हा आहे.
A13: 3. मी माझ्या कार्यालयातुन रक्कम घेऊ इच्छितो. माझ्या वैयक्तिक ओळख चिन्हांचा तपशील (निरक्षर वर्गणीदाराच बाबतीत) डाव्या हाताच्या अंगठयाचा ठसा व बोटांचे ठसे आणि (साक्षर वर्गणीदारांच्या बाबतीत ) सहीचा नमुना, यांच्या शासनाच्या राजपत्रित अधिकाऱ्याने यथोचितरित्या अनुप्रमाणित केलेंल्या दोन प्रती या सोबत जोडल्या आहे.
A14: भाग एक
A15: (अंतीम प्रदानासठीचा अर्ज, सेवानिवृत्त होण्यापूर्वी एक वर्ष आधी करावयाचा असेल त्यावेळी भरावयाचा )
A16: 4. मला देण्यात आलेल्या वर्षाच्या लेखा विवरणपत्रात नमुद केल्याप्रमाणे / आपल्या कार्यालयात ठेवण्यात येणाऱ्या खातेवही लेख्यानुसार माझ्या भविष्य निर्वाह निधी लेख्यात रु. /- ( अक्षरी रुपये फक्त) इतकी रक्कम जमा होती. मी आपणांस विनंती करतो / करते की कृपया माझ्या भविष्यनिर्वाह निधी लेख्याचे पुनर्विलोकन / पुनर्लेखन (आवश्यक असल्यास) करुन तो अद्यावत करण्यात यावा.
A17: 5.खाली नमुद केलेल्या आयुर्विमा पत्रासाठी रक्कम भरण्याची वित्त व्यवस्था मी माझ्या भविष्यनिर्वाह निधी लेख्यातुन केलेली होती.
B18: विमापत्राचा क्रमांक | C18: कंपनीचे नाव | D18: विम्याची रक्कम
B19: 1)
B20: 2) -------- | C20: निरंक -----------
A21: 6. मी असे नमुद करतो की, माझ्या वेतनातुन भविष्य निर्वाह निधीची शेवटची रक्कम वजा केल्यानंतर ताबडतोब मी हया अर्जाचा भाग दोन मध्ये दुसरा अर्ज सादर करीन.
D22: आपला
A23: स्थळ :- अमरावती | D23: =+'Input Data'!F3&'Input Data'!F4 -> श्री. प्रमोद महादेव पुरी, वरिष्ठ लिपीक,
A24: दिनांक :- | B24: =+'Input Data'!F5 -> 19-09-2024 | D24: वर्गणीदाराची सही, नांव, पदनाम व पत्ता
A25: 2
A26: ( कार्यालय प्रमुखाच्या वापरासाठी )
A28: महाराष्ट्र शासन
A29: सार्वजनिक बांधकाम प्रादेशिक विभाग अमरावती
A30: मुख्य अभियंता यांचे कार्यालय, बांधकाम भवन कॅम्प अमरावती. 444602
A31: दूरध्वनी क्रमांक :- 0721-2662807 Fax No :- 0721-2553245
A32: Website:- www.mahapwd.gov.in Mail:- amravati.ce@mahapwd.gov.in
A33: -------------------------------------------------------------------------------------------------------------------------------------------------
A35: महालेखापाल - 2,
A36: लेखा व अनुज्ञयेता,
A37: महाराष्ट्र राज्य, नागपूर
A38: यांच्याकडे आवश्यक त्या सत्वर कार्यवाहीसाठी रवाना.
A39: =" "&'Input Data'!F3&'Input Data'!F4&"(त्यांना दरवर्षी देण्यात आलेल्या विरणपत्रांच्या पडताळणीनुसार) यांचा भविष्य निर्वाह निधी लेखा क्रमांक " &'Input Data'!F7&"हा आहे." -> श्री. प्रमोद महादेव पुरी, वरिष्ठ लिपीक, (त्यांना दरवर्षी देण्यात आलेल्या विरणपत्रांच्या पडताळणीनुसार) यांचा भविष्य निर्वाह निधी लेखा क्रमांक BR/BN-46715हा आहे.
A40: =+'Office N.GPF'!A6 -> श्री. प्रमोद महादेव पुरी, वरिष्ठ लिपीक, हे न‍ियत वयोमानानुसार दिनांक 31-01-2029 (म.नं) शासकीय सेवेतून सेवानिवृत्त होत आहेत.
A41: =" "&"प्रमाणित करण्यात येते की, " &'Input Data'!F3&'Input Data'!F4&"यांनी घेतलेल्या निरंक परतावा अग्रीम रक्कम खाली नमुद केली आहे. या रक्कमेपैकी रुपये निरंक चे निरंक हप्ते अद्याप वसुल व्हावयाचे आहेत. व ती रक्कम भविष्यनिर्वाह निधी लेख्यात जमा व्हावयाची आहे." -> प्रमाणित करण्यात येते की, श्री. प्रमोद महादेव पुरी, वरिष्ठ लिपीक, यांनी घेतलेल्या निरंक परतावा अग्रीम रक्कम खाली नमुद केली आहे. या रक्कमेपैकी रुपये निरंक चे निरंक हप्ते अद्याप वसुल व्हावयाचे आहेत. व ती रक्कम भविष्यनिर्वाह निधी लेख्यात जमा व्हावयाची आहे.
A42: वर नमुद केलेल्या भविष्य निर्वाह निधी लेखा विवरणपत्रात दर्शविलेल्या कालावधीनंतर तात्पुरत्या व ना परतावा काढण्यास मंजुरी दिलेल्या रकमांचा तपशील पुढे नमुद केला आहे. रक्कम रुपये
B43: काढलेल्या परतावा अग्रीम रकमा | D43: काढलेल्या ना परतावा अग्रीम रकमा
...

Sheet GPF AG later
A4: महाराष्ट्र शासन
A5: सार्वजनिक बांधकाम प्रादेशिक विभाग अमरावती
A6: मुख्य अभियंता यांचे कार्यालय, बांधकाम भवन कॅम्प अमरावती. 444602
A7: दूरध्वनी क्रमांक :- 0721-2662807 Fax No :- 0721-2553245
A8: Website:- www.mahapwd.gov.in Mail:- amravati.ce@mahapwd.gov.in
A9: -------------------------------------------------------------------------------------------------------------------------------------------------
A10: जावक क्रमांक: का-4(1)/भनिनिअंतीमप्रदान/वैन/पुरी/2022/ /दिनांक
A11: प्रति,
A12: महालेखापाल - 2,
A13: लेखा व अनुज्ञयेता,
A14: महाराष्ट्र राज्य, नागपूर
A16: विषय:- भविष्य निर्वाह निधीमधील जमा रकमेचे अंतीम प्रदान मंजूर करणेबाबत.
A17: =+'Input Data'!F3&'Input Data'!F4&"भविष्य निर्वाह निधी लेखा क्रमांक "&'Input Data'!F7 -> श्री. प्रमोद महादेव पुरी, वरिष्ठ लिपीक, भविष्य निर्वाह निधी लेखा क्रमांक BR/BN-46715
A18: =+'Office N.GPF'!A4 -> संदर्भ :- श्री. प्रमोद महादेव पुरी, वरिष्ठ लिपीक, यांचा अर्ज दिनांक 19-09-2024
A19: ---000---
A20: =+'Office N.GPF'!A6 -> श्री. प्रमोद महादेव पुरी, वरिष्ठ लिपीक, हे न‍ियत वयोमानानुसार दिनांक 31-01-2029 (म.नं) शासकीय सेवेतून सेवानिवृत्त होत आहेत.
A21: =" "&A17&" आहे. त्यांच्या भविष्य निर्वाह निधी मधे जमा असलेल्या रकमेच्या अंतीम प्रदानाबाबतचा प्रस्ताव विहीत नमुन्यात व्दिप्रतीत अर्ज संदर्भिय पत्रानुसार या कार्यालयास प्राप्त झालेला आहे." -> श्री. प्रमोद महादेव पुरी, वरिष्ठ लिपीक, भविष्य निर्वाह निधी लेखा क्रमांक BR/BN-46715 आहे. त्यांच्या भविष्य निर्वाह निधी मधे जमा असलेल्या रकमेच्या अंतीम प्रदानाबाबतचा प्रस्ताव विहीत नमुन्यात व्दिप्रतीत अर्ज संदर्भिय पत्रानुसार या कार्यालयास प्राप्त झालेला आहे.
A22: =" "&"सबब,"&A17&" मधील जमा रकमेचे अंतीम प्रदानाचे आदेश निर्गमित करावेत. ही विनंती." -> सबब,श्री. प्रमोद महादेव पुरी, वरिष्ठ लिपीक, भविष्य निर्वाह निधी लेखा क्रमांक BR/BN-46715 मधील जमा रकमेचे अंतीम प्रदानाचे आदेश निर्गमित करावेत. ही विनंती.
A24: सहपत्र- 1. भ.नि.निधी चा प्रस्ताव 2 प्रतित
D25: (गिरीश जोशी)
D26: मुख्य अभियंता
A28: प्रतिलीपी :-
A29: =+'GPF Forms'!B91 -> श्री. प्रमोद महादेव पुरी, वरिष्ठ लिपीक, जयश्री अपार्टमेन्ट, सौरभ कॉलनी, वि.म.वि.रोड, अमरावती. महाराष्ट्र 444604 यांना माहितीसाठी अग्रेषित.

Sheet Office N. E.L
A1: कार्यालयीन टिपणी
A2: =TODAY() -> 45644
A3: विषय:- अर्जित रजा रोखीकरण करणेबाबत,
A4: =+'Input Data'!F3&'Input Data'!F4&"(सेवा निवृत्त) यांचा अर्ज दिनांक "&'Input Data'!F5 -> श्री. प्रमोद महादेव पुरी, वरिष्ठ लिपीक, (सेवा निवृत्त) यांचा अर्ज दिनांक 19-09-2024
A5: महोदय,
A6: =+'Office N.GPF'!A6&"/ झाले आहेत." -> श्री. प्रमोद महादेव पुरी, वरिष्ठ लिपीक, हे न‍ियत वयोमानानुसार दिनांक 31-01-2029 (म.नं) शासकीय सेवेतून सेवानिवृत्त होत आहेत./ झाले आहेत. | O6: =+'Input Data'!F3&'Input Data'!F4&G7&'Calculation of Pension'!D8&H7&'Input Data'!C8&O8 -> श्री. प्रमोद महादेव पुरी, वरिष्ठ लिपीक, 33 Years, 11 Months, 17 Days 46200/- ईतके आहे.
A7: =" "&+'Input Data'!F3&'Input Data'!F4&" (सेवा निवृत्त)"&" यांची सेवा "&'Calculation of Pension'!D8&"झालेली आहे त्यांचे अंतिम वेतन हे रूपये "&'Input Data'!C8&"/- ईतके आहे. त्यांचे खाती दिनांक "&'Input Data'!J7&" रोजी "&'Calculation of Pension'!E28&"दिवस अर्जित रजा शिल्लक आहे." -> श्री. प्रमोद महादेव पुरी, वरिष्ठ लिपीक, (सेवा निवृत्त) यांची सेवा 33 Years, 11 Months, 17 Days झालेली आहे त्यांचे अंतिम वेतन हे रूपये 46200/- ईतके आहे. त्यांचे खाती दिनांक 31-01-2029 रोजी 300दिवस अर्जित रजा शिल्लक आहे.
A8: =" "&'Input Data'!F3&'Input Data'!F4&" (सेवा निवृत्त)"&"यांना मूळ वेतन रूपये "&'Input Data'!C8&"/- त्यावरील अनुज्ञेय महागाई भत्ता 50% या दराने 300 दिवसांचे अर्जित रजेचे रोख मुल्य अनुज्ञेय आहे. " -> श्री. प्रमोद महादेव पुरी, वरिष्ठ लिपीक, (सेवा निवृत्त)यांना मूळ वेतन रूपये 46200/- त्यावरील अनुज्ञेय महागाई भत्ता 50% या दराने 300 दिवसांचे अर्जित रजेचे रोख मुल्य अनुज्ञेय आहे. | O8: /- ईतके आहे.
A10: आदेशार्थ सादर.

Sheet E.L.Order
A4: महाराष्ट्र शासन
A5: सार्वजनिक बांधकाम प्रादेशिक विभाग अमरावती
A6: मुख्य अभियंता यांचे कार्यालय, बांधकाम भवन कॅम्प अमरावती. 444602
A7: दूरध्वनी क्रमांक :- 0721-2662807 Fax No :- 0721-2553245
A8: Website:- www.mahapwd.gov.in Mail:- amravati.ce@mahapwd.gov.in
A9: -------------------------------------------------------------------------------------------------------------------------------------------------
A10: आदेश क्रमांक : का-4(1)/अर्जित रजा/वैन/2024/ /दिनांक
A11: विषय:- अर्जित रजा रोखीकरण करणेबाबत,
A12: =+'Input Data'!F3&'Input Data'!F4&'Office N. E.L'!G5 -> श्री. प्रमोद महादेव पुरी, वरिष्ठ लिपीक,
A13: ---000---
A14: =+'Office N. E.L'!A6 -> श्री. प्रमोद महादेव पुरी, वरिष्ठ लिपीक, हे न‍ियत वयोमानानुसार दिनांक 31-01-2029 (म.नं) शासकीय सेवेतून सेवानिवृत्त होत आहेत./ झाले आहेत.
A15: =" "&A12&" यांचे मूळ सेवापुस्तकात त्यांचे अर्ज‍ित रजेच्या खाती दिनांक "&'Input Data'!J7&" रोजी "&'Calculation of Pension'!E28&"दिवस रजा शिल्लक आहे. " -> श्री. प्रमोद महादेव पुरी, वरिष्ठ लिपीक, यांचे मूळ सेवापुस्तकात त्यांचे अर्ज‍ित रजेच्या खाती दिनांक 31-01-2029 रोजी 300दिवस रजा शिल्लक आहे.
A16: =" "&" म.न.से.(रजा) न‍ियम 1981 मध‍िल न‍ियम 68(1) तसेच महाराष्ट्र शासन,व‍ित्त व‍िभाग, न‍िर्णय क्रमांक अरजा -2401/8/सेवा-9/द‍िनांक 15 जानेवारी 2001 नुसार, मूळ वेतन रूपये "&'Input Data'!C8&"/- त्यावरील अनुज्ञेय महागाई भत्ता,50% या दराने "&'Input Data'!F3&'Input Data'!F4&'Office N. E.L'!G5&"यांचे खाती जमा असलेल्या "&'Calculation of Pension'!E28&" द‍िवसांचे अर्ज‍ित रजेचे रोखमुल्य करण्यास मंजुरी देण्यात येत आहे." -> म.न.से.(रजा) न‍ियम 1981 मध‍िल न‍ियम 68(1) तसेच महाराष्ट्र शासन,व‍ित्त व‍िभाग, न‍िर्णय क्रमांक अरजा -2401/8/सेवा-9/द‍िनांक 15 जानेवारी 2001 नुसार, मूळ वेतन रूपये 46200/- त्यावरील अनुज्ञेय महागाई भत्ता,50% या दराने श्री. प्रमोद महादेव पुरी, वरिष्ठ लिपीक, यांचे खाती जमा असलेल्या 300 द‍िवसांचे अर्ज‍ित रजेचे रोखमुल्य करण्यास मंजुरी देण्यात येत आहे.
A18: सहपत्र- 1. भ.नि.निधी चा प्रस्ताव 2 प्रतित
D19: (गिरीश जोशी)
D20: मुख्य अभियंता
A21: पृष्ठांकन क्रमांक का 4(1)/वैन/ / द‍िनांक
A22: प्रतिलीपी :-
A23: वरिष्ठ कोषागार अध‍िकारी, ज‍िल्हा कोषागार कार्यालय,….......... यांचे माहीतीस्तव.
A24: =+'GPF Forms'!B91 -> श्री. प्रमोद महादेव पुरी, वरिष्ठ लिपीक, जयश्री अपार्टमेन्ट, सौरभ कॉलनी, वि.म.वि.रोड, अमरावती. महाराष्ट्र 444604 यांना माहितीसाठी अग्रेषित.
A25: आदेश नस्ती / वैयक्तीक नस्ती
C26: सार्वजन‍िक बांधकाम प्रादेशीक व‍िभाग,
C27: अमरावती.

Sheet  Data pension
A1: C | B1: Family Details
B2: Name Of Family Member | C2: Relation | E2: Physically Hndicapped / Mentally Challanged | F2: Date Of Birth | G2: Family Pensioner Yes/No | H2: Minor Yes/No | I2: Married Yes/No
A3: 1 | C3: Wife | E3: No | G3: Yes | H3: No | I3: Yes
A4: 2
A5: 3
A6: 4
A8: D | B8: Nominee Details (For Pension)
A9: Sr. No | B9: Name Of Family Member | C9: Relation | E9: Percentage for pension (100%) | F9: Alternate Nominee
A10: 1 | E10: 50% / 100%
A11: 2 | E11: 50% / 100%
A12: 3 | E12: 50% / 100%
A14: E | B14: Family Photo (Joint Photo) | F14: Signature
B18: 4 joint photo attached
A23: F | B23: Pension Joint Account / singal Details
A24: 1 | B24: Bank Name | C24: :-
A25: 2 | B25: Branch Name | C25: :-
A26: 3 | B26: IFSC Code | C26: :-
A27: 4 | B27: Bank Address | C27: :-
A28: 5 | B28: Account No. | C28: :-
A30: G | B30: Doucument required for A.G./ Tresury in Xerox
A31: 1 | B31: Pan Card | E31: 4 copys
A32: 2 | B32: Adhar Card | E32: 4 copys
A33: 3 | B33: Pension A/c Canceled Cheque | E33: 2 copys
A34: 4 | B34: C.M.P Namuna | E34: 2 copys
A35: 5 | B35: Namuna "A" (प्रतिज्ञापत्र) | E35: 2 copys
A36: 6 | B36: Namuna "42-A" (नामनिर्देशन) | E36: 2 copys
G37: Signature of Employee
