Workbook
Name Dange: '[1]Income tax 2003'!#REF!
Name GPF_FRONT: '[2]G P F'!#REF!
Name GRPINSURANCE: '[2]DEY VAJATI:G.I.S.'!$B$2:$DF$310
Name Gudade: '[1]Income tax 2003'!#REF!
Name HOUSERENT: '[2]DEY VAJATI:H.R.A.'!$B$2:$BR$1359
Name Joshi: '[1]Income tax 2003'!#REF!
Name Nawaklar: '[1]Income tax 2003'!#REF!
Name Panure: '[1]Income tax 2003'!#REF!
Name Patankar: '[1]Income tax 2003'!#REF!
Name Punse: '[1]Income tax 2003'!#REF!
Name Thakare: '[1]Income tax 2003'!#REF!
Name TRY_SLIP: '[2]TRY. SLIP'!#REF!

Sheet Data
C2: सोबत जोडले आहे.
C3: लागु नाही. | H3: =+I5&D8&I6&D7&J6&D10&M6&D6&D7&O6&D24&I7&'परीशिष्ट -एक'!D14&K7&C19&D19&D22&I8 -> याव्दारे असे प्रमाणित करण्यात येते की अधीक्षक अभियंता, दक्षता व गुण नियंत्रण मंडळ,अमरावती. येथे वरिष्ठ लिपीक, या पदावर नोकरीस असलेल्या व कठोरा नाका,अमरावती. या पत्यावर राहणा-या श्री. प्रमोद महादेव पुरी, वरिष्ठ लिपीक, यांची /यांचा,पत्नी/पती/मुलगा /मुलगी /वडील /आई /बहीण /भाउ श्री./ श्रीमती. रुग्णाचे नाव रेखा प्रमोद पुरी, यांच्यावर /हिच्यावर दिनांक 01.06.2026 ते 05.06.2026 पर्यन्त तातडीने उपचार करण्याची गरज असलेला रुग्ण म्हणुन डॉक्टरचे नाव :- Dr. Anubhuti Metkar, Kathora naka,Nagpur यांनी पुढील उपचार केले होते.
D5: , | I5: याव्दारे असे प्रमाणित करण्यात येते की
B6: 1 | C6: अधिकारी / कर्मचाऱ्‍याचे नाव :- | D6: श्री. प्रमोद महादेव पुरी, | I6: येथे | J6: या पदावर नोकरीस असलेल्या व | M6: या पत्यावर राहणा-या | O6: यांची /यांचा,पत्नी/पती/मुलगा /मुलगी /वडील /आई /बहीण /भाउ श्री./ श्रीमती. रुग्णाचे नाव
B7: 2 | C7: पदनाम :- | D7: वरिष्ठ लिपीक, | I7: यांच्यावर /हिच्यावर | K7: पर्यन्त तातडीने उपचार करण्याची गरज असलेला रुग्ण म्हणुन
B8: 3 | C8: कार्यालयाचे संपुर्ण नाव व पत्ता | D8: अधीक्षक अभियंता, दक्षता व गुण नियंत्रण मंडळ,अमरावती. | I8: यांनी पुढील उपचार केले होते.
B9: 4 | C9: कार्यालयाचे नाव | D9: =+D8 -> अधीक्षक अभियंता, दक्षता व गुण नियंत्रण मंडळ,अमरावती.
B10: 5 | C10: अधिकारी / कर्मचाऱ्‍याचा पत्ता | D10: कठोरा नाका,अमरावती.
B11: 6 | C11: मुळ वेतन | D11: रूपये 50400/-
B12: 7 | C12: ग्रेड पे | D12: रूपये 0/-
B13: 8 | C13: महागाई भत्ता | D13: रूपये 29232-
B14: 9 | C14: घरभाडे | D14: रूपये 10080/-
B15: 10 | C15: पुरकभत्ता | D15: रूपये120 /-
B16: 11 | C16: वाहन भत्ता | D16: रूपये 1350/-
B17: 14 | C17: रूग्णालयात दाखल केल्याची तारीख | D17: 01.06.2026
B18: 15 | C18: रूग्णालयात घरी पाठविल्याची तारीख | D18: 05.06.2026
B19: 16 | C19: डॉक्टरचे नाव :- | D19: Dr. Anubhuti Metkar,
B20: 17 | C20: रूग्णालयाचे नाव | D20: Icchhamani,Hospital,
B21: 18 | C21: आजाराचे नाव | D21: CX descent with prolapsed uterus
... B23: 20 | C23: रूग्णालयाचा नोंदणी क्रमांक व दिनांक | D23: Date
B24: 21 | C24: रुग्णाचे नाव | D24: रेखा प्रमोद पुरी, | E24: जन्मतारीख | H24: - | I24: - | O24: पती
B25: 22 | C25: रुग्णाशी नाते , | D25: पत्नी | E25: 27578
B26: 23 | C26: कुटुंबाचा तपशिल | D26: नाते | O26: पत्नी
B27: 1 | C27: श्री. प्रमोद महादेव पुरी | D27: स्वत: | E27: 25939
B28: 2
B29: 3
B30: 4
B31: 5
B32: 6
B33: 24 | C33: रुग्ण नोकरीवर आहे काय?
H34: - | I34: - | O34: मुलगा
O35: मुलगी
O36: आई
O37: वडील
O38: भाऊ
O39: बहीण
O40: स्वत:

Sheet पत्र
B2: अर्जदाराचे नाव:- | D2: =+Data!D6&Data!D7 -> श्री. प्रमोद महादेव पुरी, वरिष्ठ लिपीक,
B3: दिनांक:-
B5: प्रति,
B6: =+Data!D8 -> अधीक्षक अभियंता, दक्षता व गुण नियंत्रण मंडळ,अमरावती.
B7: विषय:- वैद्यकीय खर्चाच्या देयक मंजुर करणे बाबत.
B8: महोदय,
B10: =+K10&Data!D6&Data!D7&Data!D9&L10 -> मी श्री. प्रमोद महादेव पुरी, वरिष्ठ लिपीक, अधीक्षक अभियंता, दक्षता व गुण नियंत्रण मंडळ,अमरावती. येथे सद्या कार्यरत आहे. | K10: मी | L10: येथे सद्या कार्यरत आहे.
B11: =+K11&Data!D25&M11&'परीशिष्ट -एक'!D14&N11 -> मी / माझे नातेवाईक पत्नी / यांना दिनांक 01.06.2026 ते 05.06.2026 पर्यंत दवाखान्यात दाखल केले होते /होतो. सदर बाबतचे वैद्यकिय देयक खर्चाचे प्रतिपूर्तीसाठी आपणाकडे सादर करीता आहे . कृपया सदरचे वैद्यकिय देयक परित होणेस नम्र विनंती. | K11: मी / माझे नातेवाईक | M11: / यांना | N11: पर्यंत दवाखान्यात दाखल केले होते /होतो. सदर बाबतचे वैद्यकिय देयक खर्चाचे प्रतिपूर्तीसाठी आपणाकडे सादर करीता आहे . कृपया सदरचे वैद्यकिय देयक परित होणेस नम्र विनंती.
G12: आपली विश्वासु | K12: मी / माझे नातेवाईक ॥॥॥॥॥।. (पत्नी) हिस /हयास दिनांक 26.9.12 ते दिनांक 2.10.12 पर्यन्त दवाखान्यात दाखल केले होते .सदर बाबतचे वैद्यकीय देयक खर्चासाठी आपल्याकडे सादर करीत आहे. तरी सदरचे वैद्यकीय देयक पारीत होणेस नम्र विनंती
F15: =+' प्रमाणपत्र'!G100 -> स्वाक्षरी
F16: =+' प्रमाणपत्र'!E103 -> अधिकारी / कर्मचाऱ्‍याचे नाव :- | G16: =+' प्रमाणपत्र'!G103 -> श्री. प्रमोद महादेव पुरी,
F17: =+' प्रमाणपत्र'!E104 -> पदनाम :- | G17: =+' प्रमाणपत्र'!G104 -> वरिष्ठ लिपीक,
E18: =+' प्रमाणपत्र'!E105 -> कार्यालयाचे नाव | G18: =+' प्रमाणपत्र'!G105 -> अधीक्षक अभियंता, दक्षता व गुण नियंत्रण मंडळ,अमरावती.

Sheet तपासणी सुची
B1: तपासणी सुची
B2: शासन निर्णय सार्वजनिक आरोग्य विभाग क्रमांक एमएजी. 2005 / 9/ प्र.क्र .1/ आरोग्य 3, दिनांक 11 मार्च 2005 नुसार वैद्यकीय खर्चाच्या प्रतिपुर्तीसाठी सादर करावयाच्या कागदपत्रांची तपासणी सूची.
B3: =+Data!C6&Data!D6 -> अधिकारी / कर्मचाऱ्‍याचे नाव :- श्री. प्रमोद महादेव पुरी,
B4: =+Data!C7&Data!D7 -> पदनाम :- वरिष्ठ लिपीक,
B5: अ. क्र. | C5: सादर करावयाचे प्रमाणपत्र / कागदपत्र अर्ज | D5: अभिप्राय | E5: पृष्ठ क्रमांक | I5: सोबत जोडले आहे.
B6: 1 | C6: वैद्यकीय खर्चाच्या प्रतिपुर्तीची परिगणना (शासनमान्य) रुग्णालयातील उपचार असल्यास त्याप्रमाणे परिगणना करावी.ना-देय खर्चाचा तपशील स्वतंत्रपणे दर्शवून तो औषधेापचारांच्या खर्चामधुन वजा करुन त्याप्रमाणे परिगणना करावी. | D6: सोबत जोडले आहे. | I6: लागु नाही.
B7: 2 | C7: शासकीय कर्मचाऱ्याचा वैद्यकीय प्रतिपुर्तीसाठीचा अर्ज. (दिनांकासह) (कार्यालयाने विहित मुदतीत मागणी केल्याचे प्रमाणित करणे आवश्यक) | D7: सोबत जोडले आहे.
B8: 3 | C8: सर ज.जी. समुह रुग्णालये , मुंबई/ ससुन सर्वोपचार रुग्णालय,पुणे /जिल्हा शल्य चिकित्सकांचे प्रमाणपत्र, आजाराचे नाव व शासन निर्णय दिनांक 19 मार्च 2005 मधील आजाराचा क्रमांक (प्रमाणपत्रावर डॉक्टरांचे नाव, सही व शिक्का असने आवश्यक राहील.) | D8: सोबत जोडले आहे.
B9: 4 | C9: परिशिष्ट-1 | D9: सोबत जोडले आहे.
B10: 5 | C10: परिशिष्ट-ब | D10: लागु नाही.
B11: 6 | C11: नमुना "क" (रुग्णालयाच्या डॉक्टरांचे नाव व रुग्णालयाचा नोंदणी क्रमांक असणे आवश्यक ) | D11: सोबत जोडले आहे.
B12: 7 | D12: लागु नाही.
B13: 8 | C13: नमुना "ड" (रुग्णालयाच्या डॉक्टरांचे नाव व रुग्णालयाचा नोंदणी क्रमांक असणे आवश्यक ) | D13: सोबत जोडले आहे.
B14: 9 | C14: उपचांराची तातडी असल्याबाबतचे रुग्णालयाचे प्रमाणपत्र (रुग्णालयाच्या डॉक्टरांचे नाव व रुग्णालयाचा नोंदणी क्रमांक असणे आवश्यक ) | D14: सोबत जोडले आहे.
B15: 10 | C15: औषधांमध्ये मद्यार्क / अल्कोहोल / टॅानिक अथवा अन्न घटक नसल्याबाबतचे रुग्णालयाचे प्रमाणपत्र. (रुग्णालयाच्या डॅाक्टरांचे नाव व नोंदणी क्रमांक असणे आवश्यक) | D15: सोबत जोडले आहे.
B16: 11 | C16: आवश्यक साधने व उपकरणे नवी वापरली असल्याबाबत व त्याचा पुनर्वापर होणार नसल्याचे रुग्णालयाचे प्रमाणपत्र. (आवश्यकतेप्रमाणे नर्सिगबाबत रुग्णालयाच्या डॅाक्टरांचे प्रमाणपत्र (रुग्णालयाच्या डॉक्टरांचे नावं व रुग्णालयाचा नोंदणी क्रमांक असणे आवश्यक) | D16: सोबत जोडले आहे.
B17: 12 | C17: रुग्णालयातील वास्तव्याबाबतचे प्रमाणपत्र.(रुग्णालयाच्या डॉक्टरांचे नाव व रुग्णालयाचा नेांदणी क्रमांक असणे आवश्यक ) | D17: सोबत जोडले आहे.
B18: 13 | C18: कुटुंब मर्यादा प्रमाणपत्र (कार्यालय प्रमुखाने स्वाक्षांकित केलेले ) | D18: सोबत जोडले आहे.
B19: 14 | C19: आवश्यकतेप्रमाणे कुटुंबनियेाजन शस्त्रक्रिया प्रमाणपत्र (कार्यालय प्रमुखाने स्वाक्षांकित केलेले) | D19: लागु नाही.
B20: 15 | C20: अवलंबिता प्रमाणपत्र रुग्ण व्यक्ती व वैवाहीक जोडीदार यांचे शासकीय/निमशासकीय कार्यालयात नोकरीस असल्यास (कार्यालय प्रमुखाने स्वाक्षांकित केलेले ) (रेशनकार्डच्या प्रमाणीत प्रतीसह ) | D20: सोबत जोडले आहे.
B21: 16 | C21: आवश्यकतेप्रमाणे पती /पत्नी /रुग्ण यांनी वैद्यकीय खर्चाच्या प्रतिपुर्तीचा दावा केला नसल्याचे प्रमाणपत्र (कार्यालय प्रमुखाने स्वाक्षांकित केलेले) | D21: सोबत जोडले आहे.
B22: 17 | C22: आवश्यकतेप्रमाणे कुटुंब म्हणुन सासु-सासरे अथवा आई-वडील यांची निवड केल्याचे प्रमाणपत्र (कार्यालय प्रमुखाने स्वाक्षांकित केलेले) | D22: सोबत जोडले आहे.
B23: अ. क्र. | C23: सादर करावयाचे प्रमाणपत्र / कागदपत्र अर्ज | D23: अभिप्राय | E23: पृष्ठ क्रमांक
B24: 18 | C24: मधुमेही रुग्णाबाबत परिशिष्ट-6 मधिल प्रमाणपत्र (सक्षम वैद्यकीय अधिकाऱ्याने स्वाक्षांकित केलेले ) | D24: सोबत जोडले आहे.
B25: 19 | C25: रुग्ण सेवानिवृत्त असल्यास आवश्यकतेप्रमाणे सेवानिवृत्ती वेतन प्रमाणपत्र (कार्यालय प्रमुखाने स्वाक्षांकित केलेले ) | D25: लागु नाही.
B26: 20 | C26: पंतप्रधान, मुख्यमंत्री तसेच अन्य संस्थेकडुन आर्थिक सहाय्य मिळाले आहे का? असल्यास सविस्तर तपशिल घावा. | D26: सोबत जोडले आहे.
B27: 21 | C27: आवश्यकतेप्रमाणे प्रसुतीसंदर्भात विहित मुदतीत शासकीय रुग्णालयात नांव नेांदविल्याचे प्रमाणपत्र (कार्यालय प्रमुखाने स्वाक्षांकित केलेले.) | D27: लागु नाही.
B28: 22 | C28: आवश्यकतेप्रमाणे मोटार अपघात दाव्यासंदर्भात नुकसान भरपाईची रक्कम मिळाल्यास त्यातुन वैद्यकीय खर्चाची प्रतिपुर्ती भरुन देण्याचे हमीपत्र (कार्यालय प्रमुखाने स्वाक्षांकित केलेले) | D28: लागु नाही.
B29: 23 | C29: रुग्ण व्यक्तीला अपघात झाला असल्यास प्रथम खबरी अहवालाची प्रत (कार्यालय प्रमुखाने स्वाक्षांकित केलेले) | D29: लागु नाही.
B30: 24 | C30: अर्जदाराचे वेतन प्रमाणपत्र (कार्यालय प्रमुखाने स्वाक्षांकित केलेले) | D30: सोबत जोडले आहे.
B31: 25 | C31: उपचार घेतलेले रुग्णालय शासनमान्य असल्यास त्याबाबतच्या शासन निर्णयाची प्रत | D31: लागु नाही.
B32: 26 | C32: उपचार शासकीय रुग्णालयात घेतले असल्यास तसे प्रमाणपत्र | D32: लागु नाही.
B33: 27 | C33: रुग्णालयातून रुग्णास सोडल्याचे प्रमाणपत्र(Discharge Certificate) | D33: सोबत जोडले आहे.
B34: 28 | C34: औषधांची यादी | D34: सोबत जोडले आहे.
B35: 29 | C35: रुग्णालयाने / डॉक्टरांनी सुचविलेल्या औषधांची/ चाचण्यांची कागदपत्रे, अहवाल व पावत्या (A4साईजच्या कागदावर व्यवस्थित चिकटवुन) | D35: सोबत जोडले आहे.
... B37: 31 | C37: रुग्णाच्या वास्तच्याच्या ठिकाणापासुन दुरवरच्या खाजगी रुग्णालयात उपचार का घेतले असल्यास जवळच्या शासकीय वा खाजगी रुग्णालयात उपचार का घेतले नाहीत याबाबत मागणीकर्त्याची कारणमिमांसा व त्यासंदर्भात कार्यालय प्रमुखाचे अभिप्राय. | D37: सोबत जोडले आहे.
C39: स्वाक्षरी
C40: =+Data!C6 -> अधिकारी / कर्मचाऱ्‍याचे नाव :- | D40: =+Data!D6 -> श्री. प्रमोद महादेव पुरी,
C41: =+Data!C7 -> पदनाम :- | D41: =+Data!D7 -> वरिष्ठ लिपीक,
C42: =+Data!C9 -> कार्यालयाचे नाव | D42: =+Data!D9 -> अधीक्षक अभियंता, दक्षता व गुण नियंत्रण मंडळ,अमरावती.
...

Sheet परीशिष्ट -एक
B1: परीशिष्ट -एक
B2: राज्य शासकीय कर्मचारी आणि त्यांचे कुटुंबीय यांची वैद्यकिय देखभाल आणि /किंवा उपचार यांच्या संबंधात करण्यात आलेल्या वैद्यकिय खर्चाच्या परताव्याची मागणी करण्याकरीता करावयाच्या अर्जाचा नमुना.
B3: टिप:- प्रत्येक रुग्णाकरीता स्वतंत्र नमुना वापरावा.
B5: 1 | C5: शासकीय कर्मचा-याचे नाव व पदनाम:- | D5: =+Data!D6&Data!D5&Data!D7 -> श्री. प्रमोद महादेव पुरी,, वरिष्ठ लिपीक,
B6: 2 | C6: कर्मचारी ज्या कार्यालयात नोकरीस आहे त्या कार्यालयाचे नाव | D6: =+Data!D9 -> अधीक्षक अभियंता, दक्षता व गुण नियंत्रण मंडळ,अमरावती.
B7: 3 | C7: वित्तीय नियमांमध्ये व्याख्या केल्याप्रमाणे शासकीय कर्मचा-यांचे वेतन आणि वित्तलब्धी स्वतंत्रपणे दर्शविण्यात याव्यात:- | D7: =+Data!C11&Data!D11&Data!C12&Data!D12&Data!C13&Data!D13&Data!C14&Data!D14&Data!C15&Data!D15&Data!C16&Data!D16 -> मुळ वेतन रूपये 50400/- ग्रेड पे रूपये 0/- महागाई भत्ता रूपये 29232- घरभाडे रूपये 10080/- पुरकभत्ता रूपये120 /- वाहन भत्ता रूपये 1350/-
B8: 4 | C8: 1) कामाचे ठिकाण:- | D8: =+Data!D8 -> अधीक्षक अभियंता, दक्षता व गुण नियंत्रण मंडळ,अमरावती.
B9: 5 | C9: 2) प्रत्यक्ष निवासस्थानाचा पत्ता:- | D9: =+Data!D10 -> कठोरा नाका,अमरावती.
B10: 6 | C10: रुग्णाचे नाव :- | D10: =+Data!D24 -> रेखा प्रमोद पुरी,
C11: आणि शासकीय कर्मचा-याशी त्याचेशी नाते:- | D11: पत्नी | H11: स्व:ता | J11: दिनांक | K11: ते
C12: टिप :- मुलांच्या बाबतीत वयसुध्दा नमुद करावे | H12: पत्नी
B13: 7 | C13: ज्या ठिकाणी रुग्ण आजारी झाला असेल ते ठिकाण:- | D13: अमरावती | H13: मुलगा
B14: 8 | C14: आजाराचे स्वरुप व कालावधी | D14: =+J11&Data!D17&'परीशिष्ट -एक'!K11&Data!D18 -> दिनांक 01.06.2026 ते 05.06.2026 | H14: मुलगी
D15: =+Data!D21 -> CX descent with prolapsed uterus | H15: पती
B16: 9 | C16: मागणी केलेल्या रकमेचा तपशील, वैद्यकीय अधिकारी देखभाल:- | D16: =+'परीशिष्ट पाच'!F37 -> 62476 | H16: आई
C17: (एक) रोगलक्षणासाठी सल्ला देण्याची फी दयावी- | H17: वडील
B18: अ) ज्या वैद्यकीय अधिका-याचा सल्ला घेतला असेल त्याचे
C19: नाव,पदनाम आणि ज्या रुग्णालयाशी किंवा दवाखान्याशी तो संबधित असेल तर रुग्णालयाचे ,दवाखन्याचे नाव. | D19: =+Data!D19&Data!D20 -> Dr. Anubhuti Metkar, Icchhamani,Hospital, | G19: प्रथम
C20: ब)किती वेळा सल्ला घेण्यात आला ती संख्या आणि त्याच्या तारखा आणि प्रत्येक सल्ल्यासाठी दिलेली फी | D20: =+H21 -> प्रथम | M20: सोबत जोडले आहे.
C21: क) रुग्णालयाच्या वैद्यकीय अधिका-यांच्या रोगचिकित्सा कक्षात(कन्सल्टिंग रुम) सल्ला घेण्यात आला ते नमुद करावे. | D21: - | H21: प्रथम | M21: लागु नाही.
C22: (दोन) रोग निदान करतांना करण्यात आलेला त्या विकृत | D22: लागु नाही.
C23: चिकित्साविषयक, अणुजीवशास्त्रीय क्ष- किरणशास्त्रीय किंवा | H23: होय
C24: इतर तत्सम चाचण्यासाठी आकारण्यात आलेली फी त्यामध्ये पुढील गोष्टी नमुद कराव्यात
C25: अ) ज्या रुग्णालयात किंवा प्रयोगशाळेत चाचण्या घेण्यात | D25: सोबत जोडले आहे.
C26: आल्या होत्या त्या रुग्णलयाचे किंवा प्रयोगशाळेचे नाव
C27: ब) प्राधिकृत वैद्यकीय देखभाल अधिका-याच्या सल्ल्याने चाचणी घेण्यात आली होती किंवा घेण्यात आली असेल तर तशा अर्थाचे प्रमाणपत्र सोबत जोडावे
C28: (तिन) बाजारातुन खरेदी केलेल्या औषधंचा खर्च:
C29: ( औषधांची सुची व रोखीच्या पावत्या जोडण्यात याव्यात, | D29: सोबत जोडले आहे.
C30: विशेषतज्ञाला किंवा प्राधिकृत वैद्यकीय देखभाल अधिका-या व्यतरीक्त एखादया अन्य वैद्यकीय अधिका-या ला देण्यात आलेली फी त्यामध्ये पुढील गोष्टी दर्शविण्यात याव्यात)
C31: अ) ज्याचा सल्ला घेण्यात आला असेल त्या विशेषज्ञाचे किंवा वैद्यकिय अधिका-याचे नाव व पदनाम व तेा ज्या रुग्णालयाशी संलग्न असेल त्या रुग्णलयाचे नाव
C32: ब) किती वेळा सल्ला घेण्यात आला ती संख्या व जेव्हा सल्ला घेण्यात आला ती तारीख व प्रत्येक सल्ल्यासाठी आकारण्यातआलेली फी
C33: क)सल्ला रुग्णालयात किंवा विशेषज्ञाच्या किंवा वैदयकीय अधिका-यांच्या रोगचिकीत्सा कक्षात(कन्सल्टिंग रुम) किंवा रुग्णाच्या निवासस्थानी घेण्यात आला होता किंवा कसे?
C34: ड)त्या प्रातांच्या मुख्य प्रशासकीय वैदयकीय अधिका-यांच्या सल्ला घेण्यात आला असेल तर तशा अर्थाचे प्रमाणपत्र
B35: 10 | C35: मागणी केलेली एकुण रक्कम | D35: =+'वैद्यकीय खर्चाची परिगणना'!H14 -> 62475.66
B36: 11 | C36: सहपत्रांची यादी | D36: सोबत जोडले आहे.
B37: 12 | C37: कुटुबांतील व्यक्तीची संख्या म्हणजेच 16.8.1968 रोजी आणि त्यानंतर जिवंत असलेली मुले (नाव व जन्मतारखा नमुद कराव्यात . तीन किंवा तीनपेक्षा अधिक मुले असल्यास संतती नियमन प्रमाणपत्र जोडावे.) | D37: -
B38: शासकीय कर्मचा-याने सही करुन द्यावयाचे प्रतिज्ञापत्र
B39: मी,याव्दारे जाहीर करतो/करते की,या अर्जामध्ये केलेली निवेदन माझ्या संपुर्ण माहीती प्रमाणे व विश्वासाप्रमाणे खरी असुन त्या व्यक्तीवर वैद्यकीय खर्च करण्यात आला ती व्यक्ती पुर्णपणे माझ्यावर अवलंबुन आहे.
C41: स्वाक्षरी
C42: =+Data!C6 -> अधिकारी / कर्मचाऱ्‍याचे नाव :- | D42: =+Data!D6 -> श्री. प्रमोद महादेव पुरी,
...

Sheet परीशिष्ट चार
B1: परीशिष्ट चार
B2: प्रमाणपत्र-क
B3: =+Data!H3 -> याव्दारे असे प्रमाणित करण्यात येते की अधीक्षक अभियंता, दक्षता व गुण नियंत्रण मंडळ,अमरावती. येथे वरिष्ठ लिपीक, या पदावर नोकरीस असलेल्या व कठोरा नाका,अमरावती. या पत्यावर राहणा-या श्री. प्रमोद महादेव पुरी, वरिष्ठ लिपीक, यांची /यांचा,पत्नी/पती/मुलगा /मुलगी /वडील /आई /बहीण /भाउ श्री./ श्रीमती. रुग्णाचे नाव रेखा प्रमोद पुरी, यांच्यावर /हिच्यावर दिनांक 01.06.2026 ते 05.06.2026 पर्यन्त तातडीने उपचार करण्याची गरज असलेला रुग्ण म्हणुन डॉक्टरचे नाव :- Dr. Anubhuti Metkar, Kathora naka,Nagpur यांनी पुढील उपचार केले होते.
C4: डॉक्टरचा पत्ता व रजिस्ट्रेशन क्रमांक व दिनांक | D4: =+Data!D20&Data!D22&I4&Data!D23 -> Icchhamani,Hospital, Kathora naka,Nagpur, Registration No Date | I4: , Registration No
C5: पुढील तक्रारीकरीता
C6: दिसुन आलेले प्रमुख लक्षण
C7: आवश्यक ती तातडीची तपासणी व तिचे निष्कर्ष
C8: रोगनिदान
C9: उपचाराकरीता झालेला एकुण खर्च (जोडपत्र-ड)
C10: इतका होता व त्याचा तपशील नमुना ड मध्ये देण्यात आला आहे.याव्दारे असे प्रमाणित करण्यात येतेकी,तातडीच्या उपचारानंतर रुग्णाला पुढील उपचाराकरीता प्राधिकृत वैदयकीय देखभाल अधिका-यास भेटण्याचा सल्ला देण्यात आला होता.
D11: स्वाक्षरी
B14: ठिकाण :- अमरावती | D14: =+Data!C19&Data!D19 -> डॉक्टरचे नाव :- Dr. Anubhuti Metkar,
B15: नोंदणी क्रमांक | D15: =+Data!C23&Data!D23 -> रूग्णालयाचा नोंदणी क्रमांक व दिनांक Date
B16: रुग्णालयाचे नाव | D16: =+Data!C20&Data!D20 -> रूग्णालयाचे नाव Icchhamani,Hospital,

Sheet परीशिष्ट पाच
B1: परीशिष्ट पाच
B2: प्रमाणपत्र-ड
B3: =+Data!H3 -> याव्दारे असे प्रमाणित करण्यात येते की अधीक्षक अभियंता, दक्षता व गुण नियंत्रण मंडळ,अमरावती. येथे वरिष्ठ लिपीक, या पदावर नोकरीस असलेल्या व कठोरा नाका,अमरावती. या पत्यावर राहणा-या श्री. प्रमोद महादेव पुरी, वरिष्ठ लिपीक, यांची /यांचा,पत्नी/पती/मुलगा /मुलगी /वडील /आई /बहीण /भाउ श्री./ श्रीमती. रुग्णाचे नाव रेखा प्रमोद पुरी, यांच्यावर /हिच्यावर दिनांक 01.06.2026 ते 05.06.2026 पर्यन्त तातडीने उपचार करण्याची गरज असलेला रुग्ण म्हणुन डॉक्टरचे नाव :- Dr. Anubhuti Metkar, Kathora naka,Nagpur यांनी पुढील उपचार केले होते.
C4: =+Data!C24 -> रुग्णाचे नाव | D4: :- | E4: =+Data!D24 -> रेखा प्रमोद पुरी,
C5: =+Data!C17 -> रूग्णालयात दाखल केल्याची तारीख | D5: :- | E5: =+Data!D17 -> 01.06.2026
C6: =+Data!C18 -> रूग्णालयात घरी पाठविल्याची तारीख | D6: :- | E6: =+Data!D18 -> 05.06.2026
C7: =+Data!C23 -> रूग्णालयाचा नोंदणी क्रमांक व दिनांक | D7: :- | E7: =+Data!D23 -> Date
B8: 1 | C8: Consultation Charges | F8: 0 | K8: 2500 | L8: 4 | M8: =+K8*L8 -> 10000
B9: 1 | C9: =+K9&K8&M9:M9&'परीशिष्ट -एक'!D14&K10&L8&L10 -> दररोज रुपये 2500 या दराने दिनांक 01.06.2026 ते 05.06.2026 पर्यन्त एकुण 4 दिवसाचा रुग्णालयात ठेवल्याचा खर्च | F9: =+M8 -> 10000 | K9: दररोज रुपये | M9: या दराने
B10: 2 | C10: Operation Charges | F10: 16000 | K10: पर्यन्त एकुण | L10: दिवसाचा रुग्णालयात ठेवल्याचा खर्च
B11: 3 | C11: O.T. Charges | F11: 4000
B12: 4 | C12: Anaesthetist Charges | F12: 5000
B13: 5 | C13: Asst. Charges | F13: 2000
B14: 6 | C14: Nursing Charges | F14: 2000
B15: 7 | C15: Dr.Visit Charges | F15: 4000 | M15: Nursing Charges
B16: 8 | C16: Pathology Charges | F16: 3400 | M16: Operation Charges
B17: 9 | C17: Laboratory Charges | M17: O.T. Charges
B18: 10 | C18: Physiotherapy Charges | M18: Anaesthetist Charges
B19: 11 | C19: Medical Management | M19: Pathology Charges
B20: 12 | C20: Implant Charges | M20: Asst. Charges
B21: 13 | C21: Diagnostic Lab | M21: Professional Charges
B22: 14 | M22: Surgical Managegent
B23: 15 | M23: IPD Procedure Charges
B24: 16 | L24: OT Charges | M24: ECG
B25: 17 | M25: Radiology Charges
B26: 18 | M26: Visiting Doctor Charges Operation/ anasthesi Charges
B27: 19 | M27: Laboratory Charges
B28: 20 | M28: Physiotherapy Charges
E29: Grand Total | F29: =SUM(F8:F28) -> 46400 | M29: Dr.Visit Charges
E30: Discount | F30: 0 | M30: Implant Charges
B31: अ | E31: Total | F31: =+F29-F30 -> 46400 | M31: Misc
B32: (ब)औषधे :- औषधाची यादी स्वतंत्र जोडलेली आहे. त्या औषधाची किंमत | F32: =+'औषधांची यादी'!I16 -> 16075.66 | M32: Medical Record
M33: Housekeeping
E34: एकुण (अ) | F34: =+F31 -> 46400 | M34: MRI Abdomen
E35: एकुण (ब) | F35: =+F32 -> 16075.66 | M35: Diagnostic Lab
E36: एकुण बेरीज (अ+ब) = | F36: =+F34+F35 -> 62475.66 | M36: USG Abdomen
E37: एकुण रक्कम पुर्णांकात | F37: =+ROUND(F36,0) -> 62476 | M37: Nebulization Charges
C38: =PROPER('Figur formula'!S16) -> Rs Sixty Two Thousand Four Hundred Seventy Six Only | M38: Infusion Pump
M39: Random Blood Sugar Glucometer
M40: Nursing Services
...

Sheet वैद्यकीय खर्चाची परिगणना
B2: वैद्यकीय खर्चाची परिगणना
B3: संदर्भ : सार्वजनिक आरोग्य विभाग,मंत्रालय,मुबंई
B4: शासन निर्णय क्रमांक एमएजी. 2005/9/ प्र.क्र.1/आरोग्य-3 दिनांक 11 मार्च 2005
B6: कर्मचाऱ्याचे नाव | D6: =+Data!D6 -> श्री. प्रमोद महादेव पुरी,
B7: रुग्णाचे नाव | D7: =+Data!D24&Data!D25 -> रेखा प्रमोद पुरी, पत्नी
B8: रुग्णालयातील वास्तव्याचा काळ | D8: =+'परीशिष्ट -एक'!D14 -> दिनांक 01.06.2026 ते 05.06.2026
B9: रुग्णालयाचे नाव | D9: =+Data!D20 -> Icchhamani,Hospital,
B10: आजाराचे नाव | D10: =+Data!D21 -> CX descent with prolapsed uterus
B12: अ.क्र. | C12: तपशील | H12: एकुण खर्च
B13: 1 | C13: 2 | H13: 3
B14: 1 | C14: एकुण खर्च | H14: =+'परीशिष्ट पाच'!F36 -> 62475.66
B15: 2 | C15: ना-देय खर्च | H15: 1940.91
B16: 3 | C16: प्रत्यक्ष खर्च (1-2) | H16: =+H14-H15 -> 60534.75
B17: 4 | C17: प्रत्यक्ष खर्चापैकी वास्तव्याचा खर्च (Bed Charges) | H17: =+'परीशिष्ट पाच'!F9 -> 10000
B18: 5 | C18: प्रत्यक्ष खर्चापैकी औषधोपचाराचा खर्च | H18: =+G20 -> 14134.75
B19: 6 | C19: औषधोपचारासाठी अनुज्ञेय खर्चाचे प्रमाण
C20: (औषधोपचारावरील प्रत्यक्ष खर्चापौकी प्रतिपुर्तीचे प्रमाण 90%) | G20: =+'औषधांची यादी'!I18 -> 14134.75 | H20: =+G20*90% -> 12721.275
C21: (शासनमान्य रुग्णालयातील खर्चाची 100% प्रतिपुर्ती ) इतर 90% | G21: =+H16-H17-G20 -> 36400 | H21: =+G21*90% -> 32760
B22: 7 | C22: रुग्णालयात वास्तव्याचे दिवस | G22: 4
B23: 8 | C23: वास्तव्यातील केलेला खर्च | G23: 10000 | H23: =+H20+H21 -> 45481.275
G24: Total | H24: =+H21+H20 -> 45481.275 | T24: 0.7
B25: 9 | C25: रुग्णालयातील वास्तवयासाठी अनुज्ञेय खर्चाचे प्रमाण | M25: जनरल वॉडर् (सर्वसामान्य कक्ष) | T25: 0.75
B26: अ.क्र. | C26: वास्तव्याचा प्रकार | D26: प्रत्यक्ष खर्च | E26: अनुज्ञेय रक्कम | F26: देय रक्कम | M26: जनरल वॉर्ड च्या (सर्वसामान्य कक्षाच्या बाजुला बाथरुम नसलेला कक्ष | T26: 0.8
B27: 1 | C27: जनरल वॉडर् (सर्वसामान्य कक्ष) | D27: 0 | E27: 0.9 | F27: =+D27*E27 -> 0 | M27: बाथरुमसह स्वतंत्र कक्ष | T27: 0.9
B28: 2 | C28: अतिदक्षता कक्ष (I.C.U) | D28: 0 | E28: 1 | F28: =+D28*E28 -> 0 | M28: बाथरुमसह डबल बेड कक्ष | T28: 1
B29: 3 | C29: बाथरुमसह स्वतंत्र कक्ष | D29: 10000 | E29: 0.75 | F29: =+D29*E29 -> 7500 | M29: बाथरुमसह वातानुकूलीत कक्ष (विमान प्रवास सवलत अनुज्ञेय असलेल्या कर्मचाऱ्यासांटी ) | T29: 0
B30: 4 | C30: बाथरुमसह डबल बेड कक्ष | D30: 0 | E30: 0.75 | F30: =+D30*E30 -> 0 | M30: अतिदक्षता कक्ष (I.C.U)
B31: 5 | C31: बाथरुमसह वातानुकूलीत कक्ष (विमान प्रवास सवलत अनुज्ञेय असलेल्या कर्मचाऱ्यासांटी ) | D31: 0 | E31: 0.75 | F31: =+D31*E31 -> 0
D32: =+D27+D28+D29+D30 -> 10000 | E32: ब | F32: =SUM(F27:F31) -> 7500
G33: एकुण (9) = वास्तव्यापोटी एकुण देय रक्कम | H33: =+F32 -> 7500
B34: 10 | C34: एकुण देय खर्च (6+9) | H34: =+H33+H21+H20 -> 52981.275
G35: एकुण रक्कम पुर्णांकात | H35: =+ROUND(H34,0) -> 52981
C36: =+PROPER('Figur formula'!S11) -> Rs Fifty Two Thousand Nine Hundred Eighty One Only

Sheet औषधांची यादी (2)
B1: औषधांची यादी
B3: =+'परीशिष्ट -एक'!C10&'परीशिष्ट -एक'!D10 -> रुग्णाचे नाव :- रेखा प्रमोद पुरी,
B4: =+Data!C19&Data!D19 -> डॉक्टरचे नाव :- Dr. Anubhuti Metkar,
B5: =+L5&'परीशिष्ट -एक'!D14 -> दिनांक 01.06.2026 ते 05.06.2026
B7: अ.क्र. | C7: बिल.नंबर व दिनांक | E7: औषधाचे नांव | G7: कॅटेगरी | H7: परिमाण एकुण प्र. दिवस | I7: रक्कम रूपये | K7: ना-देय खर्च
B8: 1 | C8: 2 | E8: 3 | G8: 4 | H8: 5 | I8: 6 | K8: 7
B9: 1 | C9: 1942 | D9: 46174 | E9: Vasofix 22 G | H9: 2 | I9: 434
B10: 2 | E10: JMS IV Set | H10: 2 | I10: 434
B11: 3 | E11: DNS IV | H11: 6 | I11: 468
B12: 4 | E12: RL Steriport | H12: 6 | I12: 416.34
B13: 5 | E13: NS 500ml | H13: 3 | I13: 111.75
B14: 6 | E14: NS 100 ml | H14: 8 | I14: 169.2
B15: 7 | E15: Foleys Cath | H15: 1 | I15: 150
B16: 8 | E16: Urine Bag | H16: 1 | K16: 316
B17: 9 | E17: Spinal Needle | H17: 1 | K17: 210
B18: 10 | E18: Metrogyl iv | H18: 6 | I18: 132.3
B19: 11 | E19: Anawin Heavy | H19: 1 | I19: 31.47
B20: 12 | E20: Dispovan Syr | H20: 6 | K20: 61.38
B21: 13 | E21: Dispovan Syr | H21: 6 | K21: 51.54
B22: 14 | E22: Dispovan Syr | H22: 4 | K22: 53.64
B23: 15 | E23: Gloves | H23: 4 | K23: 316
B24: 16 | E24: Gloves | H24: 4 | K24: 328
B25: 17 | E25: Gauze Sundaram | H25: 1 | I25: 475
B26: 18 | E26: Betadine Lotion | H26: 1 | I26: 102.9
B27: 19 | E27: Under paid | H27: 3 | K27: 270
B28: 20 | E28: JMS Medi | H28: 1 | I28: 35
B29: 21 | E29: Genticyn inj | H29: 6 | I29: 62.1
B30: 22 | E30: Monocef inj | H30: 6 | I30: 1279.68
B31: 23 | E31: Proveron amp | H31: 6 | I31: 150.48
B32: 24 | E32: Perinorm amp | H32: 2 | I32: 11.4
B33: 25 | E33: Pantin iv | H33: 2 | I33: 107.4
B34: 26 | E34: Ondem amp | H34: 4 | I34: 50.92
B35: 27 | E35: Petcryl | H35: 2 | I35: 1596
B36: 28 | E36: Petcryl | H36: 2 | I36: 2052
B37: 29 | E37: Methergin inj | H37: 1 | I37: 15.66
B38: 30 | E38: Buprigesic | H38: 1 | I38: 31.1
B39: 31 | E39: Skylon Liq | H39: 1 | I39: 99.23
B40: 32 | E40: Stayfree Secure | H40: 1 | I40: 120
B41: 33 | E41: Face Mask | H41: 6 | K41: 30
B42: 34 | E42: Examiination Gloves | H42: 20 | K42: 200
...

Sheet औषधांची यादी
B1: औषधांची यादी
B3: =+'परीशिष्ट -एक'!C10&'परीशिष्ट -एक'!D10 -> रुग्णाचे नाव :- रेखा प्रमोद पुरी,
B4: =+Data!C19&Data!D19 -> डॉक्टरचे नाव :- Dr. Anubhuti Metkar,
B5: =+P5&'परीशिष्ट -एक'!D14 -> आंतररूग्ण कालावधी दिनांक दिनांक 01.06.2026 ते 05.06.2026 | P5: आंतररूग्ण कालावधी दिनांक
B7: अ.क्र. | C7: बिल.नंबर व दिनांक | E7: औषधाचे नांव | G7: कॅटेगरी | H7: परिमाण एकुण प्र. दिवस | I7: रक्कम रूपये
B8: 1 | C8: 2 | E8: 3 | G8: 4 | H8: 5 | I8: 6
B9: 1 | C9: 1942 | D9: 46174 | E9: औषधांची यादी स्वतंत्र जोडण्यात आली आहे. | I9: 11241.49
B10: 2 | C10: 1981 | D10: 46176 | I10: 1609.19
B11: 3 | C11: 1977 | D11: 46176 | I11: 1940.68
B12: 4 | C12: 2061 | D12: 46178 | I12: 1284.3
B13: 10
H14: TOTAL | I14: =SUM(I9:J13) -> 16075.66
H15: Disc | I15: 0
H16: Total | I16: =+I14-I15 -> 16075.66
H17: ना-देय खर्च | I17: =+'औषधांची यादी (2)'!I74:K74 -> 1940.91
H18: TOTAL in Round | I18: =+I16-I17 -> 14134.75
H20: =+' प्रमाणपत्र'!G6 -> स्वाक्षरी
I21: =+PROPER('Figur formula'!S6) -> Rs Only
H22: =+' प्रमाणपत्र'!G7 -> डॉक्टरचे नाव :- Dr. Anubhuti Metkar,
H23: =+' प्रमाणपत्र'!G8 -> रूग्णालयाचा नोंदणी क्रमांक व दिनांक Date
H24: =+' प्रमाणपत्र'!G9 -> रूग्णालयाचे नाव Icchhamani,Hospital,

Sheet  प्रमाणपत्र
I1: नमुना-01
A2: प्रमाणपत्र
B3: =+K5&Data!D24&Data!C25&Data!D25&K6&'परीशिष्ट -एक'!D14&L6&K7 -> प्रमाणित करण्या येते की रूग्ण श्री/ श्रीमती रेखा प्रमोद पुरी, रुग्णाशी नाते ,पत्नी यांच्यावर दिनांक 01.06.2026 ते 05.06.2026 पर्यंत अंतरूग्ण म्हणून उपचार करण्यात आला, उपचार कालावधीत नर्सिंग सेवा अत्याआवश्यक होती.
K5: प्रमाणित करण्या येते की रूग्ण श्री/ श्रीमती
G6: स्वाक्षरी | K6: यांच्यावर | L6: पर्यंत
G7: =+'परीशिष्ट चार'!D14 -> डॉक्टरचे नाव :- Dr. Anubhuti Metkar, | K7: अंतरूग्ण म्हणून उपचार करण्यात आला, उपचार कालावधीत नर्सिंग सेवा अत्याआवश्यक होती.
G8: =+'परीशिष्ट चार'!D15 -> रूग्णालयाचा नोंदणी क्रमांक व दिनांक Date
G9: =+'परीशिष्ट चार'!D16 -> रूग्णालयाचे नाव Icchhamani,Hospital,
G10: =+Data!F18&Data!G18
I14: नमुना-02
A15: प्रमाणपत्र
B16: =+K5&Data!D24&Data!C25&Data!D25&K6&'परीशिष्ट -एक'!D14&L6&K19 -> प्रमाणित करण्या येते की रूग्ण श्री/ श्रीमती रेखा प्रमोद पुरी, रुग्णाशी नाते ,पत्नी यांच्यावर दिनांक 01.06.2026 ते 05.06.2026 पर्यंत गंभिररित्या आजारी असल्या कारणाने त्यांना अतितात्काळरित्या रुग्णालयात दाखल करण्यात आले हेाते.
K17: प्रमाणित करण्या येते की रूग्ण श्री/ श्रीमती
K18: यांच्यावर
G19: =+G6 -> स्वाक्षरी | K19: गंभिररित्या आजारी असल्या कारणाने त्यांना अतितात्काळरित्या रुग्णालयात दाखल करण्यात आले हेाते.
G20: =+G7 -> डॉक्टरचे नाव :- Dr. Anubhuti Metkar,
G21: =+G8 -> रूग्णालयाचा नोंदणी क्रमांक व दिनांक Date
G22: =+G9 -> रूग्णालयाचे नाव Icchhamani,Hospital,
G23: =+Data!F38&Data!G38
I25: नमुना-03
A26: प्रमाणपत्र
B27: =+K5&Data!D24&Data!C25&Data!D25&K6&'परीशिष्ट -एक'!D14&L6&K27 -> प्रमाणित करण्या येते की रूग्ण श्री/ श्रीमती रेखा प्रमोद पुरी, रुग्णाशी नाते ,पत्नी यांच्यावर दिनांक 01.06.2026 ते 05.06.2026 पर्यंत गंभिररित्या आजारी असल्या कारणाने त्यांना अतितात्काळ रित्या रुग्णालयात दाखल केले असता, त्यांना दिलेल्या औषधांमध्ये मदयार्क, अल्कोहेाल, टॅानीक अथवा प्राथिमिक अन्न घटक या औषधंचा समावेश केलेला नाही. | K27: गंभिररित्या आजारी असल्या कारणाने त्यांना अतितात्काळ रित्या रुग्णालयात दाखल केले असता, त्यांना दिलेल्या औषधांमध्ये मदयार्क, अल्कोहेाल, टॅानीक अथवा प्राथिमिक अन्न घटक या औषधंचा समावेश केलेला नाही.
G30: =+G19 -> स्वाक्षरी
G31: =+G20 -> डॉक्टरचे नाव :- Dr. Anubhuti Metkar,
G32: =+G21 -> रूग्णालयाचा नोंदणी क्रमांक व दिनांक Date
G33: =+G22 -> रूग्णालयाचे नाव Icchhamani,Hospital,
G34: =+Data!F51&Data!G51
I35: नमुना-04
A36: नामागणी प्रमाणपत्र
B37: =+K5&Data!D6&Data!C7&Data!D7&Data!C25&Data!D25&K6&'परीशिष्ट -एक'!D14&L6&K37 -> प्रमाणित करण्या येते की रूग्ण श्री/ श्रीमती श्री. प्रमोद महादेव पुरी, पदनाम :- वरिष्ठ लिपीक, रुग्णाशी नाते ,पत्नी यांच्यावर दिनांक 01.06.2026 ते 05.06.2026 पर्यंत यांच्या वर केलेल्या खर्चाची प्रतिपुर्ती प्रंतप्रधान सहाय्यता निधी / मुख्यमंत्री सहाय्यता निधी/स्वयंसेवा सामाजिक संस्था / मेडीक्लेम पॉलीसी कंपनी इत्यादी मार्फत आर्थीक अर्थसहाय्य घेतले नाही. या संबधीची मागणी भविष्यात वर नमुद केल्या प्रमाणे करणार नाही. | K37: यांच्या वर केलेल्या खर्चाची प्रतिपुर्ती प्रंतप्रधान सहाय्यता निधी / मुख्यमंत्री सहाय्यता निधी/स्वयंसेवा सामाजिक संस्था / मेडीक्लेम पॉलीसी कंपनी इत्यादी मार्फत आर्थीक अर्थसहाय्य घेतले नाही. या संबधीची मागणी भविष्यात वर नमुद केल्या प्रमाणे करणार नाही.
F41: =+'परीशिष्ट -एक'!C41 -> स्वाक्षरी
F42: =+'परीशिष्ट -एक'!C42 -> अधिकारी / कर्मचाऱ्‍याचे नाव :- | H42: =+'परीशिष्ट -एक'!D42 -> श्री. प्रमोद महादेव पुरी,
F43: =+'परीशिष्ट -एक'!C43 -> पदनाम :- | H43: =+'परीशिष्ट -एक'!D43 -> वरिष्ठ लिपीक,
F44: =+'परीशिष्ट -एक'!C44 -> कार्यालयाचे नाव | H44: =+'परीशिष्ट -एक'!D44 -> अधीक्षक अभियंता, दक्षता व गुण नियंत्रण मंडळ,अमरावती.
I48: नमुना-05
A49: प्रमाणपत्र
B50: =+L51&Data!D24&Data!C25&Data!D25&L52 -> या द्वारे असे प्रमाणीत करण्यात येते की श्री/श्रीमती रेखा प्रमोद पुरी, रुग्णाशी नाते ,पत्नी यांना या रुग्णालयात अतितात्काळ दाखल केले असता त्यांच्या शस्त्रक्रियेकरीता/उपचाराकरिता अत्यावश्यक असलेली साधने व उपकारणे त्यांच्या करिता आवश्यक होती व ती त्यांनाच वापरली असून त्यांचा पुन्हा उपयोग केला जात नाही अथवा होतही नाही.
L51: या द्वारे असे प्रमाणीत करण्यात येते की श्री/श्रीमती
L52: यांना या रुग्णालयात अतितात्काळ दाखल केले असता त्यांच्या शस्त्रक्रियेकरीता/उपचाराकरिता अत्यावश्यक असलेली साधने व उपकारणे त्यांच्या करिता आवश्यक होती व ती त्यांनाच वापरली असून त्यांचा पुन्हा उपयोग केला जात नाही अथवा होतही नाही.
G56: =+G136 -> डॉक्टरचे नाव :- Dr. Anubhuti Metkar,
...

Sheet Figur formula
A1: thousand | B1: thousand | C1: =+R1 -> 0 | H1: X | N1: Rs | P1: Only | S1: =+C5 -> Rs Only
A2: hundred | B2: hundred | C2: =MOD(C1,100000) -> 0 | D2: =ROUNDDOWN((MOD(C3,10000))/1000,0) -> 0 | E2: =ROUNDDOWN((MOD(C3,1000))/100,0) -> 0 | F2: =ROUNDDOWN((MOD(C3,100))/10,0) -> 0 | G2: =MOD(C3,10) -> 0 | H2: =ROUNDDOWN((MOD(C1,100000))/10000,0) -> 0 | I2: =ROUNDDOWN((MOD(C1,10000))/1000,0) -> 0 | J2: =ROUNDDOWN((MOD(C1,1000))/100,0) -> 0 | K2: =ROUNDDOWN((MOD(C1,100))/10,0) -> 0 | L2: =MOD(C1,10) -> 0 | M2: =(D2*10)+E2 -> 0 | N2: =(F2*10)+G2 -> 0 | O2: =(H2*10)+I2 -> 0 | P2: =+J2 -> 0 | Q2: =K2*10+L2 -> 0 | R2: #REF!
A3: lac | B3: lac | C3: =(C1-C2)/100000 -> 0 | M3: =VLOOKUP(M2,$A$5:$B$104,2) | N3: =VLOOKUP(N2,$A$5:$B$104,2) | O3: =VLOOKUP(O2,$A$5:$B$104,2) | P3: =VLOOKUP(P2,$A$5:$B$104,2) | Q3: =VLOOKUP(Q2,$A$5:$B$104,2) | R3: #REF!
A4: crore | B4: crore | M4: =IF(M2>=1,$B$4,$B$5) | N4: =IF(N2>=1,$B$3,$B$5) | O4: =IF(O2>=1,$B$1,$B$5) | P4: =IF(P2>=1,$B$2,$B$5) | R4: #REF!
A5: 0 | C5: =TRIM(N1&M5&N5&O5&P5&Q5&P1) -> Rs Only | M5: =M3&L3&M4 | N5: =N3&L3&N4 | O5: =O3&L3&O4 | P5: =P3&L3&P4 | Q5: =Q3&L3&Q4 | R5: #REF!
A6: 1 | B6: one | C6: =+R6 -> 0 | H6: X | N6: Rs | P6: Only | R6: =+'औषधांची यादी'!I20 -> 0 | S6: =+C10 -> Rs Only | X6: /-
A7: 2 | B7: two | C7: =MOD(C6,100000) -> 0 | D7: =ROUNDDOWN((MOD(C8,10000))/1000,0) -> 0 | E7: =ROUNDDOWN((MOD(C8,1000))/100,0) -> 0 | F7: =ROUNDDOWN((MOD(C8,100))/10,0) -> 0 | G7: =MOD(C8,10) -> 0 | H7: =ROUNDDOWN((MOD(C6,100000))/10000,0) -> 0 | I7: =ROUNDDOWN((MOD(C6,10000))/1000,0) -> 0 | J7: =ROUNDDOWN((MOD(C6,1000))/100,0) -> 0 | K7: =ROUNDDOWN((MOD(C6,100))/10,0) -> 0 | L7: =MOD(C6,10) -> 0 | M7: =(D7*10)+E7 -> 0 | N7: =(F7*10)+G7 -> 0 | O7: =(H7*10)+I7 -> 0 | P7: =+J7 -> 0 | Q7: =K7*10+L7 -> 0 | R7: #REF!
A8: 3 | B8: three | C8: =(C6-C7)/100000 -> 0 | M8: =VLOOKUP(M7,$A$5:$B$104,2) | N8: =VLOOKUP(N7,$A$5:$B$104,2) | O8: =VLOOKUP(O7,$A$5:$B$104,2) | P8: =VLOOKUP(P7,$A$5:$B$104,2) | Q8: =VLOOKUP(Q7,$A$5:$B$104,2) | R8: #REF!
A9: 4 | B9: four | M9: =IF(M7>=1,$B$4,$B$5) | N9: =IF(N7>=1,$B$3,$B$5) | O9: =IF(O7>=1,$B$1,$B$5) | P9: =IF(P7>=1,$B$2,$B$5) | R9: #REF!
A10: 5 | B10: five | C10: =TRIM(N6&M10&N10&O10&P10&Q10&P6) -> Rs Only | M10: =M8&L8&M9 | N10: =N8&L8&N9 | O10: =O8&L8&O9 | P10: =P8&L8&P9 | Q10: =Q8&L8&Q9 | R10: #REF!
A11: 6 | B11: six | C11: =+R11 -> 52981 | H11: X | N11: Rs | P11: Only | R11: =+'वैद्यकीय खर्चाची परिगणना'!H35 -> 52981 | S11: =+C15 -> Rs fifty two thousand nine hundred eighty one Only | W11: =PROPER(N6&W6&R6&X6&S6) -> Rs 0 /- Rs Only
A12: 7 | B12: seven | C12: =MOD(C11,100000) -> 52981 | D12: =ROUNDDOWN((MOD(C13,10000))/1000,0) -> 0 | E12: =ROUNDDOWN((MOD(C13,1000))/100,0) -> 0 | F12: =ROUNDDOWN((MOD(C13,100))/10,0) -> 0 | G12: =MOD(C13,10) -> 0 | H12: =ROUNDDOWN((MOD(C11,100000))/10000,0) -> 5 | I12: =ROUNDDOWN((MOD(C11,10000))/1000,0) -> 2 | J12: =ROUNDDOWN((MOD(C11,1000))/100,0) -> 9 | K12: =ROUNDDOWN((MOD(C11,100))/10,0) -> 8 | L12: =MOD(C11,10) -> 1 | M12: =(D12*10)+E12 -> 0 | N12: =(F12*10)+G12 -> 0 | O12: =(H12*10)+I12 -> 52 | P12: =+J12 -> 9 | Q12: =K12*10+L12 -> 81 | R12: #REF!
A13: 8 | B13: eight | C13: =(C11-C12)/100000 -> 0 | M13: =VLOOKUP(M12,$A$5:$B$104,2) | N13: =VLOOKUP(N12,$A$5:$B$104,2) | O13: =VLOOKUP(O12,$A$5:$B$104,2) -> fifty two | P13: =VLOOKUP(P12,$A$5:$B$104,2) -> nine | Q13: =VLOOKUP(Q12,$A$5:$B$104,2) -> eighty one | R13: #REF!
A14: 9 | B14: nine | M14: =IF(M12>=1,$B$4,$B$5) | N14: =IF(N12>=1,$B$3,$B$5) | O14: =IF(O12>=1,$B$1,$B$5) -> thousand | P14: =IF(P12>=1,$B$2,$B$5) -> hundred | R14: #REF!
A15: 10 | B15: ten | C15: =TRIM(N11&M15&N15&O15&P15&Q15&P11) -> Rs fifty two thousand nine hundred eighty one Only | M15: =M13&L13&M14 | N15: =N13&L13&N14 | O15: =O13&L13&O14 -> fifty two thousand | P15: =P13&L13&P14 -> nine hundred | Q15: =Q13&L13&Q14 -> eighty one | R15: #REF!
A16: 11 | B16: eleven | C16: =+R16 -> 62476 | H16: X | N16: Rs | P16: Only | R16: =+'परीशिष्ट पाच'!F37 -> 62476 | S16: =+C20 -> Rs sixty two thousand four hundred seventy six Only
A17: 12 | B17: twelve | C17: =MOD(C16,100000) -> 62476 | D17: =ROUNDDOWN((MOD(C18,10000))/1000,0) -> 0 | E17: =ROUNDDOWN((MOD(C18,1000))/100,0) -> 0 | F17: =ROUNDDOWN((MOD(C18,100))/10,0) -> 0 | G17: =MOD(C18,10) -> 0 | H17: =ROUNDDOWN((MOD(C16,100000))/10000,0) -> 6 | I17: =ROUNDDOWN((MOD(C16,10000))/1000,0) -> 2 | J17: =ROUNDDOWN((MOD(C16,1000))/100,0) -> 4 | K17: =ROUNDDOWN((MOD(C16,100))/10,0) -> 7 | L17: =MOD(C16,10) -> 6 | M17: =(D17*10)+E17 -> 0 | N17: =(F17*10)+G17 -> 0 | O17: =(H17*10)+I17 -> 62 | P17: =+J17 -> 4 | Q17: =K17*10+L17 -> 76 | R17: #REF!
A18: 13 | B18: thirteen | C18: =(C16-C17)/100000 -> 0 | M18: =VLOOKUP(M17,$A$5:$B$104,2) | N18: =VLOOKUP(N17,$A$5:$B$104,2) | O18: =VLOOKUP(O17,$A$5:$B$104,2) -> sixty two | P18: =VLOOKUP(P17,$A$5:$B$104,2) -> four | Q18: =VLOOKUP(Q17,$A$5:$B$104,2) -> seventy six | R18: #REF!
A19: 14 | B19: fourteen | M19: =IF(M17>=1,$B$4,$B$5) | N19: =IF(N17>=1,$B$3,$B$5) | O19: =IF(O17>=1,$B$1,$B$5) -> thousand | P19: =IF(P17>=1,$B$2,$B$5) -> hundred | R19: #REF!
A20: 15 | B20: fifteen | C20: =TRIM(N16&M20&N20&O20&P20&Q20&P16) -> Rs sixty two thousand four hundred seventy six Only | M20: =M18&L18&M19 | N20: =N18&L18&N19 | O20: =O18&L18&O19 -> sixty two thousand | P20: =P18&L18&P19 -> four hundred | Q20: =Q18&L18&Q19 -> seventy six | R20: #REF!
A21: 16 | B21: sixteen | C21: =+R21 -> 10000 | H21: X | N21: Rs | P21: Only | R21: =+' प्रमाणपत्र'!H70 -> 10000 | S21: =+C25 -> Rs ten thousand Only
A22: 17 | B22: seventeen | C22: =MOD(C21,100000) -> 10000 | D22: =ROUNDDOWN((MOD(C23,10000))/1000,0) -> 0 | E22: =ROUNDDOWN((MOD(C23,1000))/100,0) -> 0 | F22: =ROUNDDOWN((MOD(C23,100))/10,0) -> 0 | G22: =MOD(C23,10) -> 0 | H22: =ROUNDDOWN((MOD(C21,100000))/10000,0) -> 1 | I22: =ROUNDDOWN((MOD(C21,10000))/1000,0) -> 0 | J22: =ROUNDDOWN((MOD(C21,1000))/100,0) -> 0 | K22: =ROUNDDOWN((MOD(C21,100))/10,0) -> 0 | L22: =MOD(C21,10) -> 0 | M22: =(D22*10)+E22 -> 0 | N22: =(F22*10)+G22 -> 0 | O22: =(H22*10)+I22 -> 10 | P22: =+J22 -> 0 | Q22: =K22*10+L22 -> 0 | R22: #REF!
A23: 18 | B23: eighteen | C23: =(C21-C22)/100000 -> 0 | M23: =VLOOKUP(M22,$A$5:$B$104,2) | N23: =VLOOKUP(N22,$A$5:$B$104,2) | O23: =VLOOKUP(O22,$A$5:$B$104,2) -> ten | P23: =VLOOKUP(P22,$A$5:$B$104,2) | Q23: =VLOOKUP(Q22,$A$5:$B$104,2) | R23: #REF!
A24: 19 | B24: ninteen | M24: =IF(M22>=1,$B$4,$B$5) | N24: =IF(N22>=1,$B$3,$B$5) | O24: =IF(O22>=1,$B$1,$B$5) -> thousand | P24: =IF(P22>=1,$B$2,$B$5) | R24: #REF!
A25: 20 | B25: twenty | C25: =TRIM(N21&M25&N25&O25&P25&Q25&P21) -> Rs ten thousand Only | M25: =M23&L23&M24 | N25: =N23&L23&N24 | O25: =O23&L23&O24 -> ten thousand | P25: =P23&L23&P24 | Q25: =Q23&L23&Q24 | R25: #REF!
A26: 21 | B26: twenty one | C26: =+R26 -> 6 | H26: X | N26: Rs | P26: Only | R26: 6 | S26: =+C30 -> Rs six Only
A27: 22 | B27: twenty two | C27: =MOD(C26,100000) -> 6 | D27: =ROUNDDOWN((MOD(C28,10000))/1000,0) -> 0 | E27: =ROUNDDOWN((MOD(C28,1000))/100,0) -> 0 | F27: =ROUNDDOWN((MOD(C28,100))/10,0) -> 0 | G27: =MOD(C28,10) -> 0 | H27: =ROUNDDOWN((MOD(C26,100000))/10000,0) -> 0 | I27: =ROUNDDOWN((MOD(C26,10000))/1000,0) -> 0 | J27: =ROUNDDOWN((MOD(C26,1000))/100,0) -> 0 | K27: =ROUNDDOWN((MOD(C26,100))/10,0) -> 0 | L27: =MOD(C26,10) -> 6 | M27: =(D27*10)+E27 -> 0 | N27: =(F27*10)+G27 -> 0 | O27: =(H27*10)+I27 -> 0 | P27: =+J27 -> 0 | Q27: =K27*10+L27 -> 6 | R27: #REF!
A28: 23 | B28: twenty three | C28: =(C26-C27)/100000 -> 0 | M28: =VLOOKUP(M27,$A$5:$B$104,2) | N28: =VLOOKUP(N27,$A$5:$B$104,2) | O28: =VLOOKUP(O27,$A$5:$B$104,2) | P28: =VLOOKUP(P27,$A$5:$B$104,2) | Q28: =VLOOKUP(Q27,$A$5:$B$104,2) -> six | R28: #REF!
A29: 24 | B29: twenty four | M29: =IF(M27>=1,$B$4,$B$5) | N29: =IF(N27>=1,$B$3,$B$5) | O29: =IF(O27>=1,$B$1,$B$5) | P29: =IF(P27>=1,$B$2,$B$5) | R29: #REF!
A30: 25 | B30: twenty five | C30: =TRIM(N26&M30&N30&O30&P30&Q30&P26) -> Rs six Only | M30: =M28&L28&M29 | N30: =N28&L28&N29 | O30: =O28&L28&O29 | P30: =P28&L28&P29 | Q30: =Q28&L28&Q29 -> six | R30: #REF!
A31: 26 | B31: twenty six | C31: =+R31 -> 7 | H31: X | N31: Rs | P31: Only | R31: 7 | S31: =+C35 -> Rs seven Only
A32: 27 | B32: twenty seven | C32: =MOD(C31,100000) -> 7 | D32: =ROUNDDOWN((MOD(C33,10000))/1000,0) -> 0 | E32: =ROUNDDOWN((MOD(C33,1000))/100,0) -> 0 | F32: =ROUNDDOWN((MOD(C33,100))/10,0) -> 0 | G32: =MOD(C33,10) -> 0 | H32: =ROUNDDOWN((MOD(C31,100000))/10000,0) -> 0 | I32: =ROUNDDOWN((MOD(C31,10000))/1000,0) -> 0 | J32: =ROUNDDOWN((MOD(C31,1000))/100,0) -> 0 | K32: =ROUNDDOWN((MOD(C31,100))/10,0) -> 0 | L32: =MOD(C31,10) -> 7 | M32: =(D32*10)+E32 -> 0 | N32: =(F32*10)+G32 -> 0 | O32: =(H32*10)+I32 -> 0 | P32: =+J32 -> 0 | Q32: =K32*10+L32 -> 7 | R32: #REF!
A33: 28 | B33: twenty eight | C33: =(C31-C32)/100000 -> 0 | M33: =VLOOKUP(M32,$A$5:$B$104,2) | N33: =VLOOKUP(N32,$A$5:$B$104,2) | O33: =VLOOKUP(O32,$A$5:$B$104,2) | P33: =VLOOKUP(P32,$A$5:$B$104,2) | Q33: =VLOOKUP(Q32,$A$5:$B$104,2) -> seven | R33: #REF!
A34: 29 | B34: twenty nine | M34: =IF(M32>=1,$B$4,$B$5) | N34: =IF(N32>=1,$B$3,$B$5) | O34: =IF(O32>=1,$B$1,$B$5) | P34: =IF(P32>=1,$B$2,$B$5) | R34: #REF!
A35: 30 | B35: thirty | C35: =TRIM(N31&M35&N35&O35&P35&Q35&P31) -> Rs seven Only | M35: =M33&L33&M34 | N35: =N33&L33&N34 | O35: =O33&L33&O34 | P35: =P33&L33&P34 | Q35: =Q33&L33&Q34 -> seven | R35: #REF!
A36: 31 | B36: thirty one | C36: =+R36 -> 8 | H36: X | N36: Rs | P36: Only | R36: 8 | S36: =+C40 -> Rs eight Only
A37: 32 | B37: thirty two | C37: =MOD(C36,100000) -> 8 | D37: =ROUNDDOWN((MOD(C38,10000))/1000,0) -> 0 | E37: =ROUNDDOWN((MOD(C38,1000))/100,0) -> 0 | F37: =ROUNDDOWN((MOD(C38,100))/10,0) -> 0 | G37: =MOD(C38,10) -> 0 | H37: =ROUNDDOWN((MOD(C36,100000))/10000,0) -> 0 | I37: =ROUNDDOWN((MOD(C36,10000))/1000,0) -> 0 | J37: =ROUNDDOWN((MOD(C36,1000))/100,0) -> 0 | K37: =ROUNDDOWN((MOD(C36,100))/10,0) -> 0 | L37: =MOD(C36,10) -> 8 | M37: =(D37*10)+E37 -> 0 | N37: =(F37*10)+G37 -> 0 | O37: =(H37*10)+I37 -> 0 | P37: =+J37 -> 0 | Q37: =K37*10+L37 -> 8 | R37: #REF!
A38: 33 | B38: thirty three | C38: =(C36-C37)/100000 -> 0 | M38: =VLOOKUP(M37,$A$5:$B$104,2) | N38: =VLOOKUP(N37,$A$5:$B$104,2) | O38: =VLOOKUP(O37,$A$5:$B$104,2) | P38: =VLOOKUP(P37,$A$5:$B$104,2) | Q38: =VLOOKUP(Q37,$A$5:$B$104,2) -> eight | R38: #REF!
A39: 34 | B39: thirty four | M39: =IF(M37>=1,$B$4,$B$5) | N39: =IF(N37>=1,$B$3,$B$5) | O39: =IF(O37>=1,$B$1,$B$5) | P39: =IF(P37>=1,$B$2,$B$5) | R39: #REF!
A40: 35 | B40: thirty five | C40: =TRIM(N36&M40&N40&O40&P40&Q40&P36) -> Rs eight Only | M40: =M38&L38&M39 | N40: =N38&L38&N39 | O40: =O38&L38&O39 | P40: =P38&L38&P39 | Q40: =Q38&L38&Q39 -> eight | R40: #REF!
...

Sheet Sheet1
